BEGIN:VCALENDAR
VERSION:2.0
PRODID:-//ChamberMaster//Event Calendar 2.0//EN
METHOD:PUBLISH
X-PUBLISHED-TTL:P3D
REFRESH-INTERVAL:P3D
CALSCALE:GREGORIAN
BEGIN:VEVENT
DTSTART:20181202T200000Z
DTEND:20181203T040000Z
X-MICROSOFT-CDO-ALLDAYEVENT:FALSE
SUMMARY:TRANS-SIBERIAN ORCHESTRA: GHOSTS OF CHRISTMAS EVE 2018
DESCRIPTION:Trans- Siberian Orchestra will perform a show at 3 p.m. and another at 8 p.m. on Sunday Dec. 2 at Van Andel Arena. Marking the band's 20th consecutive year of touring\, Trans-Siberian Orchestra (TSO) today announced its highly-anticipated Winter Tour 2018. TSO's annual November-December multi-sensory extravaganza\, which sells out venues year after year\, has cemented the group's status as a must-attend\, multi-generational\, holiday tradition. This year's 20th anniversary tour\, a presentation of TSO's unforgettable "The Ghosts of Christmas Eve\," featuring founder/composer/lyricist Paul O'Neill's timeless story of a runaway who finds her way into a mysterious abandoned theater\, is set to begin on November 14th and will visit 65 cities across North America\, for 100-plus performances\, before concluding on December 30th. TSO's Winter Tour 2018 is presented by Hallmark Channel. Based on TSO's multi-platinum DVD and long running PBS fundraiser\, "The Ghosts of Christmas Eve\," this year's tour will include new awe-inspiring effects\, as well as amazing staging with an all new design from the dedicated team handpicked by the group's late creator\, Paul O'Neill. The rock opera also features such enduring fan-favorites as "Christmas Eve/Sarajevo 12/24\," "O' Come All Ye Faithful\," "Good King Joy\," "Christmas Canon\," "Music Box Blues\," "Promises To Keep\," and "This Christmas Day." Additionally\, the tour will enjoy a new second set containing some of TSO's greatest hits and fan-pleasers. As in all previous years\, a portion of every ticket sold benefits select local charities. To date\, more than $15 million has been distributed from TSO to worthy charities all across North America.
X-ALT-DESC;FMTTYPE=text/html:Trans- Siberian Orchestra will perform a show at 3 p.m. and another at 8 p.m. on Sunday Dec. 2 at Van Andel Arena. Marking the band&rsquo\;s 20th consecutive year of touring\, Trans-Siberian Orchestra (TSO) today announced its highly-anticipated Winter Tour 2018. TSO&rsquo\;s annual November-December multi-sensory extravaganza\, which sells out venues year after year\, has cemented the group&rsquo\;s status as a must-attend\, multi-generational\, holiday tradition. This year&rsquo\;s 20th anniversary tour\, a presentation of TSO&rsquo\;s unforgettable &ldquo\;The Ghosts of Christmas Eve\,&rdquo\; featuring founder/composer/lyricist Paul O&rsquo\;Neill&rsquo\;s timeless story of a runaway who finds her way into a mysterious abandoned theater\, is set to begin on November 14th and will visit 65 cities across North America\, for 100-plus performances\, before concluding on December 30th. TSO&rsquo\;s Winter Tour 2018 is presented by Hallmark Channel. Based on TSO&rsquo\;s multi-platinum DVD and long running PBS fundraiser\, &ldquo\;The Ghosts of Christmas Eve\,&rdquo\; this year&rsquo\;s tour will include new awe-inspiring effects\, as well as amazing staging with an all new design from the dedicated team handpicked by the group&rsquo\;s late creator\, Paul O&rsquo\;Neill. The rock opera also features such enduring fan-favorites as &quot\;Christmas Eve/Sarajevo 12/24\,&quot\; &quot\;O&rsquo\; Come All Ye Faithful\,&quot\; &quot\;Good King Joy\,&quot\; &quot\;Christmas Canon\,&quot\; &quot\;Music Box Blues\,&quot\; &quot\;Promises To Keep\,&quot\; and &quot\;This Christmas Day.&quot\; Additionally\, the tour will enjoy a new second set containing some of TSO&rsquo\;s greatest hits and fan-pleasers. As in all previous years\, a portion of every ticket sold benefits select local charities. To date\, more than $15 million has been distributed from TSO to worthy charities all across North America.
LOCATION:Van Andel Arena
UID:e.2018.928
SEQUENCE:3
DTSTAMP:20260422T095735Z
URL:https://members.westmihcc.org/events/details/trans-siberian-orchestra-ghosts-of-christmas-eve-2018-928
END:VEVENT

END:VCALENDAR
