BEGIN:VCALENDAR
VERSION:2.0
PRODID:-//ChamberMaster//Event Calendar 2.0//EN
METHOD:PUBLISH
X-PUBLISHED-TTL:P3D
REFRESH-INTERVAL:P3D
CALSCALE:GREGORIAN
BEGIN:VEVENT
DTSTART:20171203T200000Z
DTEND:20171204T030000Z
X-MICROSOFT-CDO-ALLDAYEVENT:FALSE
SUMMARY:Trans-Siberian Orchestra "The Ghosts of Christmas Eve" presented by Hallmark
DESCRIPTION:Over the past 20-plus years\, Trans-Siberian Orchestra has become a critically-acclaimed\, multi-platinum\, musical powerhouse\, and its annual winter tours a beloved\, multi-generational holiday tradition. 2017's tour\, a completely updated presentation of TSO's unforgettable "The Ghosts of Christmas Eve\," is set to play at the Van Andel Arena. TSO's tour will be a celebration of the art and accomplishments of the lauded group's late creator/composer/lyricist\, Paul O'Neill\, and his inimitable creation\, which he dubbed "Rock Theater." Prior to his untimely passing\, O'Neill worked tirelessly with his close-knit team preparing an exciting new take on "The Ghosts of Christmas Eve" for the 2017 tour. Beginning November 16th\, fans will experience this exciting stage spectacle\, including new awe-inspiring effects\, and staging\, certain to make the story even more engaging for fans. Based on TSO's multi-platinum DVD and long running PBS fundraiser\, "The Ghosts of Christmas Eve\," the rock opera features such enduring fan-favorites as "Christmas Eve/Sarajevo 12/24\," "O' Come All Ye Faithful\," "Good King Joy\," "Christmas Canon\," "Music Box Blues\," "Promises To Keep\," and "This Christmas Day." 2017's tour will also boast a rousing second set containing more of TSO's greatest hits and fan-pleasers. As in all previous years\, a portion of every ticket sold benefits select local charities. To date\, more than $13 million has been distributed from TSO to worthy charities all across North America. Visit www.trans-siberian.com for more details. Tickets go on sale Friday\, September 15\, 2017 @ 10 AM Tickets may be purchased at the Van Andel Arena  and DeVos Place  convention center box offices\, charge by phone: 1.800.745.3000 or on-line at Ticketmaster.com. Ticket prices are subject to change.
X-ALT-DESC;FMTTYPE=text/html:Over the past 20-plus years\, Trans-Siberian Orchestra has become a critically-acclaimed\, multi-platinum\, musical powerhouse\, and its annual winter tours a beloved\, multi-generational holiday tradition. 2017&rsquo\;s tour\, a completely updated presentation of TSO&rsquo\;s unforgettable &ldquo\;The Ghosts of Christmas Eve\,&rdquo\; is set to play at the Van Andel Arena. TSO&rsquo\;s tour will be a celebration of the art and accomplishments of the lauded group&rsquo\;s late creator/composer/lyricist\, Paul O&rsquo\;Neill\, and his inimitable creation\, which he dubbed &ldquo\;Rock Theater.&rdquo\; Prior to his untimely passing\, O&rsquo\;Neill worked tirelessly with his close-knit team preparing an exciting new take on &ldquo\;The Ghosts of Christmas Eve&rdquo\; for the 2017 tour. Beginning November 16th\, fans will experience this exciting stage spectacle\, including new awe-inspiring effects\, and staging\, certain to make the story even more engaging for fans. Based on TSO&rsquo\;s multi-platinum DVD and long running PBS fundraiser\, &ldquo\;The Ghosts of Christmas Eve\,&rdquo\; the rock opera features such enduring fan-favorites as &quot\;Christmas Eve/Sarajevo 12/24\,&quot\; &quot\;O&rsquo\; Come All Ye Faithful\,&quot\; &quot\;Good King Joy\,&quot\; &quot\;Christmas Canon\,&quot\; &quot\;Music Box Blues\,&quot\; &quot\;Promises To Keep\,&quot\; and &quot\;This Christmas Day.&quot\; 2017&rsquo\;s tour will also boast a rousing second set containing more of TSO&rsquo\;s greatest hits and fan-pleasers. As in all previous years\, a portion of every ticket sold benefits select local charities. To date\, more than $13 million has been distributed from TSO to worthy charities all across North America. Visit www.trans-siberian.com for more details. Tickets go on sale Friday\, September 15\, 2017 @ 10 AM Tickets may be purchased at the Van Andel Arena&reg\; and DeVos Place&reg\; convention center box offices\, charge by phone: 1.800.745.3000 or on-line at Ticketmaster.com. Ticket prices are subject to change.
LOCATION:Van Andel Arena
UID:e.2018.663
SEQUENCE:3
DTSTAMP:20260423T021741Z
URL:https://members.westmihcc.org/events/details/trans-siberian-orchestra-the-ghosts-of-christmas-eve-presented-by-hallmark-12-03-2017-663
END:VEVENT

END:VCALENDAR
