BEGIN:VCALENDAR
VERSION:2.0
PRODID:-//ChamberMaster//Event Calendar 2.0//EN
METHOD:PUBLISH
X-PUBLISHED-TTL:P3D
REFRESH-INTERVAL:P3D
CALSCALE:GREGORIAN
BEGIN:VEVENT
DTSTART:20161222T200000Z
DTEND:20161223T030000Z
X-MICROSOFT-CDO-ALLDAYEVENT:FALSE
SUMMARY:Trans-Siberian Orchestra "The Ghosts of Christmas Eve" presented by Hallmark
DESCRIPTION:Trans-Siberian Orchestra celebrates 20 years with the performance of the rock opera "The Ghosts of Christmas Eve" presented by Hallmark Channel. Based on TSO's multi-platinum DVD and long running PBS fundraiser\, the story follows the journey of a young runaway who\, on Christmas Eve\, breaks into an abandoned vaudeville theater seeking shelter from the cold\, and the ghostly visions she experiences from that concert hall's past. "The Ghosts of Christmas Eve" features such lasting crowd-pleasers as "Christmas Eve Sarajevo 12/24\," "O' Come All Ye Faithful\," "Good King Joy\," "Christmas Canon\," "Music Box Blues\," "Promises To Keep\," and "This Christmas Day." Tickets go on sale Friday\, September 16\, 2016 @ 10 AM. Tickets may be purchased at the Van Andel Arena  and DeVos Place  Convention box offices\, Ticketmaster ticket centers\, including select Walmart locations\, charge by phone: 1.800.745.3000 or on-line at Ticketmaster.com.
X-ALT-DESC;FMTTYPE=text/html:Trans-Siberian Orchestra celebrates 20 years with the performance of the rock opera &quot\;The Ghosts of Christmas Eve&quot\; presented by Hallmark Channel. Based on TSO&rsquo\;s multi-platinum DVD and long running PBS fundraiser\, the story follows the journey of a young runaway who\, on Christmas Eve\, breaks into an abandoned vaudeville theater seeking shelter from the cold\, and the ghostly visions she experiences from that concert hall&rsquo\;s past. &ldquo\;The Ghosts of Christmas Eve&rdquo\; features such lasting crowd-pleasers as &quot\;Christmas Eve Sarajevo 12/24\,&quot\; &quot\;O&rsquo\; Come All Ye Faithful\,&quot\; &quot\;Good King Joy\,&quot\; &quot\;Christmas Canon\,&quot\; &quot\;Music Box Blues\,&quot\; &quot\;Promises To Keep\,&quot\; and &quot\;This Christmas Day.&quot\; Tickets go on sale Friday\, September 16\, 2016 @ 10 AM. Tickets may be purchased at the Van Andel Arena&reg\; and DeVos Place&reg\; Convention box offices\, Ticketmaster ticket centers\, including select Walmart locations\, charge by phone: 1.800.745.3000 or on-line at Ticketmaster.com.
LOCATION:Van Andel Arena 130 Fulton W Grand Rapids\, MI 49503
UID:e.2018.463
SEQUENCE:3
DTSTAMP:20260425T184157Z
URL:https://members.westmihcc.org/events/details/trans-siberian-orchestra-the-ghosts-of-christmas-eve-presented-by-hallmark-463
END:VEVENT

END:VCALENDAR
