BEGIN:VCALENDAR
VERSION:2.0
PRODID:-//ChamberMaster//Event Calendar 2.0//EN
METHOD:PUBLISH
X-PUBLISHED-TTL:P3D
REFRESH-INTERVAL:P3D
CALSCALE:GREGORIAN
BEGIN:VEVENT
DTSTART:20160604T230000Z
DTEND:20160605T020000Z
X-MICROSOFT-CDO-ALLDAYEVENT:FALSE
SUMMARY:Twenty One Pilot "Emotional Roadshow"
DESCRIPTION:The musical duo Twenty One Pilots bring their explosive live show to Van Andel Arena. The duo\, made up of Tyler Joseph on vocals and piano and Josh Dun on drums\, are known for their songs "Tear In My Heart" and "Stressed Out." They recently performed at the 2015 MTV European Music Awards and were nominated in the "Best Alternative" category.
X-ALT-DESC;FMTTYPE=text/html:The musical duo Twenty One Pilots bring their explosive live show to Van Andel Arena. The duo\, made up of Tyler Joseph on vocals and piano and Josh Dun on drums\, are known for their songs &quot\;Tear In My Heart&quot\; and &quot\;Stressed Out.&quot\; They recently performed at the 2015 MTV European Music Awards and were nominated in the &quot\;Best Alternative&quot\; category.
LOCATION:Van Andel Arena 130 Fulton W. Grand Rapids\, MI 49503
UID:e.2018.195
SEQUENCE:3
DTSTAMP:20260426T024245Z
URL:https://members.westmihcc.org/events/details/twenty-one-pilot-emotional-roadshow-06-04-2016-195
END:VEVENT

END:VCALENDAR
