BEGIN:VCALENDAR
VERSION:2.0
PRODID:-//ChamberMaster//Event Calendar 2.0//EN
METHOD:PUBLISH
X-PUBLISHED-TTL:P3D
REFRESH-INTERVAL:P3D
CALSCALE:GREGORIAN
BEGIN:VEVENT
DTSTART:20190531T230000Z
DTEND:20190601T013000Z
X-MICROSOFT-CDO-ALLDAYEVENT:FALSE
SUMMARY:Twenty One Pilots Bandito Tour
DESCRIPTION:Twenty One Pilots have announced a second leg of the "Bandito Tour" due to overwhelming demand\, which will see the band returning to Grand Rapids with a show at Van Andel Arena on Friday\, May 31\, 2019 at 7:00PM. Twenty One Pilots\, the GRAMMY Award-Winning duo of Tyler Joseph and Josh Dun\, are gearing up for the release of their massively anticipated new album\, TRENCH\, which arrives worldwide this Friday\, October 5th. "My Blood" marked the first track released from TRENCH to stand apart from the three-part narrative first established in the official music videos for "Jumpsuit\," the chart-topping first single\, continued in the LP's second release\, "Nico And The Niners\," and ultimately concluded with "Levitate\," all directed by longtime collaborator Andrew Donoho and streaming via Twenty One Pilots YouTube channel. All three films have amassed over 75 million cumulative views to date.
X-ALT-DESC;FMTTYPE=text/html:Twenty One Pilots have announced a second leg of the &quot\;Bandito Tour&quot\; due to overwhelming demand\, which will see the band returning to Grand Rapids with a show at Van Andel Arena on Friday\, May 31\, 2019 at 7:00PM. Twenty One Pilots\, the GRAMMY Award-Winning duo of Tyler Joseph and Josh Dun\, are gearing up for the release of their massively anticipated new album\, TRENCH\, which arrives worldwide this Friday\, October 5th. &quot\;My Blood&quot\; marked the first track released from TRENCH to stand apart from the three-part narrative first established in the official music videos for &quot\;Jumpsuit\,&quot\; the chart-topping first single\, continued in the LP&#39\;s second release\, &quot\;Nico And The Niners\,&quot\; and ultimately concluded with &quot\;Levitate\,&quot\; all directed by longtime collaborator Andrew Donoho and streaming via Twenty One Pilots YouTube channel. All three films have amassed over 75 million cumulative views to date.
LOCATION:Van Andel Arena
UID:e.2018.976
SEQUENCE:3
DTSTAMP:20260420T050157Z
URL:https://members.westmihcc.org/events/details/twenty-one-pilots-bandito-tour-976
END:VEVENT

END:VCALENDAR
