BEGIN:VCALENDAR
VERSION:2.0
PRODID:-//ChamberMaster//Event Calendar 2.0//EN
METHOD:PUBLISH
X-PUBLISHED-TTL:P3D
REFRESH-INTERVAL:P3D
CALSCALE:GREGORIAN
BEGIN:VEVENT
DTSTART:20170406T220000Z
DTEND:20170406T233000Z
X-MICROSOFT-CDO-ALLDAYEVENT:FALSE
SUMMARY:Unidos en Duelo (United in Grief) Support Group
DESCRIPTION:Life without a loved one can be overwhelming. To help Spanish-speaking members of the community coping with grief\, Hospice of Michigan is offering Unidos en Duelo (United in Grief)\, a series presented in Spanish. Like all support groups and events Unidos en Duelo is open to everyone\, regardless of whether their loved one received services from Hospice of Michigan. All grief support programs are free of charge\, but donations are welcome to help support the nonprofit's programming. Registration is required for all groups. Please contact Sue Glover at 616.356.5255 to register. Este grupo por Hospice of Michigan de pena es para aquellos que han experimentado una muerte. El objetivo del grupo es expresar sentimientos en un ambiente de apoyo y cari o. Cook Library Center   1100 Grandville Ave. SW Grand Rapids 6-7:30pm (Primer jueves de cada mes) 6 de abril\,4 de mayo\, 1 de junio\, 6 de Julio Tenga en cuenta que este grupo es en espa ol.
X-ALT-DESC;FMTTYPE=text/html:Life without a loved one can be overwhelming. To help Spanish-speaking members of the community coping with grief\, Hospice of Michigan is offering Unidos en Duelo (United in Grief)\, a series presented in Spanish. Like all support groups and events Unidos en Duelo is open to everyone\, regardless of whether their loved one received services from Hospice of Michigan. All grief support programs are free of charge\, but donations are welcome to help support the nonprofit&rsquo\;s programming. Registration is required for all groups. Please contact Sue Glover at 616.356.5255 to register. Este grupo por Hospice of Michigan de pena es para aquellos que han experimentado una muerte. El objetivo del grupo es expresar sentimientos en un ambiente de apoyo y cari&ntilde\;o. Cook Library Center &ndash\; 1100 Grandville Ave. SW Grand Rapids 6-7:30pm (Primer jueves de cada mes) 6 de abril\,4 de mayo\, 1 de junio\, 6 de Julio Tenga en cuenta que este grupo es en espa&ntilde\;ol.
LOCATION:Cook Library Center 1100 Grandville Ave. SW Grand Rapids
UID:e.2018.560
SEQUENCE:3
DTSTAMP:20260425T133410Z
URL:https://members.westmihcc.org/events/details/unidos-en-duelo-united-in-grief-support-group-560
END:VEVENT

END:VCALENDAR
