BEGIN:VCALENDAR
VERSION:2.0
PRODID:-//ChamberMaster//Event Calendar 2.0//EN
METHOD:PUBLISH
X-PUBLISHED-TTL:P3D
REFRESH-INTERVAL:P3D
CALSCALE:GREGORIAN
BEGIN:VEVENT
DTSTART:20190522T220000Z
DTEND:20190523T010000Z
X-MICROSOFT-CDO-ALLDAYEVENT:FALSE
SUMMARY:Using QuickBooks Online to Successfully Manage Your Business
DESCRIPTION:Join us for a QuickBooks boot camp. QuickBooks Online has many features and advantages that QuickBooks Desktop does not offer. You will learn how to: Navigate QuickBooks Online. Export QuickBooks desktop data to QuickBooks Online. Record transactions and create reports. Complete some of the step-by-step workflows in QuickBooks Online.
X-ALT-DESC;FMTTYPE=text/html:Join us for a QuickBooks boot camp. QuickBooks Online has many features and advantages that QuickBooks Desktop does not offer. You will learn how to: Navigate QuickBooks Online. Export QuickBooks desktop data to QuickBooks Online. Record transactions and create reports. Complete some of the step-by-step workflows in QuickBooks Online.
LOCATION:
UID:e.2018.1185
SEQUENCE:3
DTSTAMP:20260420T033200Z
URL:https://members.westmihcc.org/events/details/using-quickbooks-online-to-successfully-manage-your-business-05-22-2019-1185
END:VEVENT

END:VCALENDAR
