BEGIN:VCALENDAR
VERSION:2.0
PRODID:-//ChamberMaster//Event Calendar 2.0//EN
METHOD:PUBLISH
X-PUBLISHED-TTL:P3D
REFRESH-INTERVAL:P3D
CALSCALE:GREGORIAN
BEGIN:VEVENT
DTSTART:20180124T230000Z
DTEND:20180125T020000Z
X-MICROSOFT-CDO-ALLDAYEVENT:FALSE
SUMMARY:Using QuickBooks to Successfully Manage Your Business
DESCRIPTION:Join us for a QuickBooks boot camp. QuickBooks Online has many features and advantages that QuickBooks Desktop does not offer. You will learn how to: Navigate QuickBooks Online. Export QuickBooks desktop data to QuickBooks Online. Record transactions and create reports. Complete some of the step-by-step workflows in QuickBooks Online. This workshop is interactive. We ask that you bring your laptop fully charged. Each participant will receive a QuickBooks Online manual and a 30% discount to order QuickBooks Online.
X-ALT-DESC;FMTTYPE=text/html:Join us for a QuickBooks boot camp. QuickBooks Online has many features and advantages that QuickBooks Desktop does not offer. You will learn how to: Navigate QuickBooks Online. Export QuickBooks desktop data to QuickBooks Online. Record transactions and create reports. Complete some of the step-by-step workflows in QuickBooks Online. This workshop is interactive. We ask that you bring your laptop fully charged. Each participant will receive a QuickBooks Online manual and a 30% discount to order QuickBooks Online.
LOCATION:
UID:e.2018.733
SEQUENCE:3
DTSTAMP:20260423T004109Z
URL:https://members.westmihcc.org/events/details/using-quickbooks-to-successfully-manage-your-business-01-24-2018-733
END:VEVENT

END:VCALENDAR
