BEGIN:VCALENDAR
VERSION:2.0
PRODID:-//ChamberMaster//Event Calendar 2.0//EN
METHOD:PUBLISH
X-PUBLISHED-TTL:P3D
REFRESH-INTERVAL:P3D
CALSCALE:GREGORIAN
BEGIN:VEVENT
DTSTART:20160908T220000Z
DTEND:20160909T010000Z
X-MICROSOFT-CDO-ALLDAYEVENT:FALSE
SUMMARY:Using QuickBooks to Successfully Manage Your Business
DESCRIPTION:Using QuickBooks to Successfully Manage Your Business Join us for a QuickBooks boto camp. QuickBooks Online has many features and advantages that QuickBooks Desktop does not offer. You will learn how to: Navigate QuickBooks Online. Export QuickBooks desktop data to QuickBooks Online. Record transactions and create reports. Complete some of the step-by-step workflows in QuickBooks Online. This workshop is interactive. We ask that you bring your laptop fully charged. Each participant will receive a QuickBooks Online manual and 30% odiscount to order QuickBooks Online. Please note that the YWCA building is currently under construction\, and the rear parking lot is unavailable. Metered parking\, and City ramps are available during the day. The spectrum health lot on La Grave Ave is also available for use after 5:00pm.
X-ALT-DESC;FMTTYPE=text/html:Using QuickBooks to Successfully Manage Your Business Join us for a QuickBooks boto camp. QuickBooks Online has many features and advantages that QuickBooks Desktop does not offer. You will learn how to: Navigate QuickBooks Online. Export QuickBooks desktop data to QuickBooks Online. Record transactions and create reports. Complete some of the step-by-step workflows in QuickBooks Online. This workshop is interactive. We ask that you bring your laptop fully charged. Each participant will receive a QuickBooks Online manual and 30% odiscount to order QuickBooks Online. Please note that the YWCA building is currently under construction\, and the rear parking lot is unavailable. Metered parking\, and City ramps are available during the day. The spectrum health lot on La Grave Ave is also available for use after 5:00pm.
LOCATION:Grand Rapids Opportunities for Women
UID:e.2018.467
SEQUENCE:3
DTSTAMP:20260425T225605Z
URL:https://members.westmihcc.org/events/details/using-quickbooks-to-successfully-manage-your-business-467
END:VEVENT

END:VCALENDAR
