BEGIN:VCALENDAR
VERSION:2.0
PRODID:-//ChamberMaster//Event Calendar 2.0//EN
METHOD:PUBLISH
X-PUBLISHED-TTL:P3D
REFRESH-INTERVAL:P3D
CALSCALE:GREGORIAN
BEGIN:VEVENT
DTSTART:20170502T170000Z
DTEND:20170502T200000Z
X-MICROSOFT-CDO-ALLDAYEVENT:FALSE
SUMMARY:USPS Open House
DESCRIPTION:Join us in celebrating your small business\, during National Small Business Week! We want to ensure that you have all the tools to be successful. Join us to learn about resources that can help you start\, grow\, and continue the realization of your business goals! Light refreshments will be provided. No cost To register\, go online at https://clients.sbdcmichigan.org/workshop.aspx?ekey=70370064 or call SBDC West Michigan at (616) 331-7370.
X-ALT-DESC;FMTTYPE=text/html:Join us in celebrating your small business\, during National Small Business Week! We want to ensure that you have all the tools to be successful. Join us to learn about resources that can help you start\, grow\, and continue the realization of your business goals! Light refreshments will be provided. No cost To register\, go online at https://clients.sbdcmichigan.org/workshop.aspx?ekey=70370064 or call SBDC West Michigan at (616) 331-7370.
LOCATION:United States Postal Service 225 Michigan Ave Grand Rapids\, MI 49501
UID:e.2018.586
SEQUENCE:3
DTSTAMP:20260425T120001Z
URL:https://members.westmihcc.org/events/details/usps-open-house-586
END:VEVENT

END:VCALENDAR
