BEGIN:VCALENDAR
VERSION:2.0
PRODID:-//ChamberMaster//Event Calendar 2.0//EN
METHOD:PUBLISH
X-PUBLISHED-TTL:P3D
REFRESH-INTERVAL:P3D
CALSCALE:GREGORIAN
BEGIN:VEVENT
DTSTART:20161023T160000Z
DTEND:20161023T200000Z
X-MICROSOFT-CDO-ALLDAYEVENT:FALSE
SUMMARY:VAN ANDEL ARENA'S 20TH ANNIVERSARY HALLOWEEN OPEN HOUSE
DESCRIPTION:Van Andel Arena  has been celebrating its 20th anniversary this year\, and the party is set to keep going. The venue is inviting the community to celebrate at the Halloween Open House on Sunday\, October 23 from 12:00 PM   4:00 PM. The event is free and open to the public as a way for Van Andel Arena to show gratitude for the support of the community over the past 20 years. Plenty of activities and freebies are planned for the Halloween-themed event. The first 5\,000 people through the doors will enjoy a free hot dog\, popcorn\, and Pepsi\, and the first 2\,000 people will be given a treat   a 20th birthday cupcake. Other activities to enjoy are costume contests\, a live DJ\, trick-or-treating and bag decoration stations\, Halloween photo stations\, self-guided tours of the building\, ticket giveaways\, and more\, including a chance to take a slapshot on the ice\, shoot hoops on the basketball floor\, and have your picture taken with a Zamboni. The event will be a fun-filled\, family-friendly day and guests are encouraged to show up in costume to get into the Halloween spirit.
X-ALT-DESC;FMTTYPE=text/html:Van Andel Arena&reg\; has been celebrating its 20th anniversary this year\, and the party is set to keep going. The venue is inviting the community to celebrate at the Halloween Open House on Sunday\, October 23 from 12:00 PM &ndash\; 4:00 PM. The event is free and open to the public as a way for Van Andel Arena to show gratitude for the support of the community over the past 20 years. Plenty of activities and freebies are planned for the Halloween-themed event. The first 5\,000 people through the doors will enjoy a free hot dog\, popcorn\, and Pepsi\, and the first 2\,000 people will be given a treat &ndash\; a 20th birthday cupcake. Other activities to enjoy are costume contests\, a live DJ\, trick-or-treating and bag decoration stations\, Halloween photo stations\, self-guided tours of the building\, ticket giveaways\, and more\, including a chance to take a slapshot on the ice\, shoot hoops on the basketball floor\, and have your picture taken with a Zamboni. The event will be a fun-filled\, family-friendly day and guests are encouraged to show up in costume to get into the Halloween spirit.
LOCATION:Van Andel Arena
UID:e.2018.500
SEQUENCE:3
DTSTAMP:20260425T213050Z
URL:https://members.westmihcc.org/events/details/van-andel-arena-s-20th-anniversary-halloween-open-house-500
END:VEVENT

END:VCALENDAR
