BEGIN:VCALENDAR
VERSION:2.0
PRODID:-//ChamberMaster//Event Calendar 2.0//EN
METHOD:PUBLISH
X-PUBLISHED-TTL:P3D
REFRESH-INTERVAL:P3D
CALSCALE:GREGORIAN
BEGIN:VEVENT
DTSTART:20200423T130000Z
DTEND:20200423T143000Z
X-MICROSOFT-CDO-ALLDAYEVENT:FALSE
SUMMARY:[VIRTUAL]Talleres Empresariales
DESCRIPTION:Tema: Manteniendo su propiedad durante COVID-19\n\nTopic: How to hold on to your property during COVID-19 \n\nPresented by/Presentado por: NAI Wisinski\n\n\n\nNota: Este taller sera bilingue (ingles\, espa ol) // Note: This workshop will be bilingual (English\, Spanish)\n\n\n\nLa C mara de Comercio Hispana presenta nuestros Talleres Empresariales. Estos talleres ayudan a los propietarios y empresarios hispanos conocer m s sobre las necesidades del negocio. Los temas cambian cada mes y son dados por diferentes l deres locales. Los Talleres son gratuitos y abiertos a la comunidad.  Los esperamos!\n\n\n\nThe WMHCC presents our monthly Talleres Empresariales. These business workshops help local Hispanic business owners and entrepreneurs learn more about business necessities. Local leaders give a presentation on the monthly topic and breakfast is served as well. Reminder: these workshops are in Spanish.
X-ALT-DESC;FMTTYPE=text/html:<span style="box-sizing: content-box\; bottom: auto\; clear: none\; color: rgb(85\, 85\, 85)\; content: normal\; direction: inherit\; empty-cells: show\; font-variant-numeric: inherit\; font-variant-east-asian: inherit\; font-stretch: inherit\; font-size: 16px\; font-family: &quot\;Helvetica Neue&quot\;\, Helvetica\, Arial\, sans-serif\; left: auto\; line-height: inherit\; margin: 0px\; max-height: none\; max-width: none\; min-height: initial\; min-width: initial\; opacity: 1\; outline-offset: 0px\; overflow: visible\; padding: 0px\; position: static\; resize: none\; right: auto\; table-layout: auto\; text-overflow: clip\; top: auto\; vertical-align: baseline\; visibility: inherit\; word-break: inherit\; overflow-wrap: inherit\; z-index: auto\; background-image: none\; background-position: initial\; background-size: initial\; background-repeat: initial\; background-attachment: initial\; background-origin: initial\; background-clip: initial\; border: none\; border-collapse: separate\; border-radius: 0px\; height: auto\; width: auto\; box-shadow: none\;">Tema: Manteniendo su propiedad durante COVID-19<br />\nTopic:&nbsp\;How to hold on to your property during COVID-19&nbsp\;<br />\nPresented by/Presentado por: NAI Wisinski<br />\n<br />\nNota: Este taller sera bilingue (ingles\, espa&ntilde\;ol) // Note: This workshop will be bilingual (English\, Spanish)<br />\n<br />\nLa C&aacute\;mara de Comercio Hispana presenta nuestros Talleres Empresariales. Estos talleres&nbsp\;ayudan a los propietarios y empresarios hispanos conocer m&aacute\;s sobre las necesidades del negocio. Los temas cambian cada mes y son dados por diferentes l&iacute\;deres locales. Los Talleres son gratuitos y abiertos a la comunidad. &iexcl\;Los esperamos!</span><br style="box-sizing: content-box\; bottom: auto\; clear: none\; color: rgb(85\, 85\, 85)\; content: normal\; direction: inherit\; display: inline\; empty-cells: show\; float: none\; font-variant-numeric: inherit\; font-variant-east-asian: inherit\; font-stretch: inherit\; font-size: 16px\; font-family: &quot\;Helvetica Neue&quot\;\, Helvetica\, Arial\, sans-serif\; left: auto\; line-height: inherit\; margin: 0px\; max-height: none\; max-width: none\; min-height: initial\; min-width: initial\; opacity: 1\; outline-offset: 0px\; overflow: visible\; padding: 0px\; position: static\; resize: none\; right: auto\; table-layout: auto\; text-overflow: clip\; top: auto\; vertical-align: baseline\; visibility: inherit\; word-break: inherit\; overflow-wrap: inherit\; z-index: auto\; background-image: none\; background-position: initial\; background-size: initial\; background-repeat: initial\; background-attachment: initial\; background-origin: initial\; background-clip: initial\; border: none\; border-collapse: separate\; border-radius: 0px\; height: auto\; width: auto\;" />\n<br style="box-sizing: content-box\; bottom: auto\; clear: none\; color: rgb(85\, 85\, 85)\; content: normal\; direction: inherit\; display: inline\; empty-cells: show\; float: none\; font-variant-numeric: inherit\; font-variant-east-asian: inherit\; font-stretch: inherit\; font-size: 16px\; font-family: &quot\;Helvetica Neue&quot\;\, Helvetica\, Arial\, sans-serif\; left: auto\; line-height: inherit\; margin: 0px\; max-height: none\; max-width: none\; min-height: initial\; min-width: initial\; opacity: 1\; outline-offset: 0px\; overflow: visible\; padding: 0px\; position: static\; resize: none\; right: auto\; table-layout: auto\; text-overflow: clip\; top: auto\; vertical-align: baseline\; visibility: inherit\; word-break: inherit\; overflow-wrap: inherit\; z-index: auto\; background-image: none\; background-position: initial\; background-size: initial\; background-repeat: initial\; background-attachment: initial\; background-origin: initial\; background-clip: initial\; border: none\; border-collapse: separate\; border-radius: 0px\; height: auto\; width: auto\;" />\n<span style="box-sizing: content-box\; bottom: auto\; clear: none\; color: rgb(85\, 85\, 85)\; content: normal\; direction: inherit\; empty-cells: show\; font-variant-numeric: inherit\; font-variant-east-asian: inherit\; font-stretch: inherit\; font-size: 16px\; font-family: &quot\;Helvetica Neue&quot\;\, Helvetica\, Arial\, sans-serif\; left: auto\; line-height: inherit\; margin: 0px\; max-height: none\; max-width: none\; min-height: initial\; min-width: initial\; opacity: 1\; outline-offset: 0px\; overflow: visible\; padding: 0px\; position: static\; resize: none\; right: auto\; table-layout: auto\; text-overflow: clip\; top: auto\; vertical-align: baseline\; visibility: inherit\; word-break: inherit\; overflow-wrap: inherit\; z-index: auto\; background-image: none\; background-position: initial\; background-size: initial\; background-repeat: initial\; background-attachment: initial\; background-origin: initial\; background-clip: initial\; border: none\; border-collapse: separate\; border-radius: 0px\; height: auto\; width: auto\; box-shadow: none\;">The WMHCC presents our monthly Talleres Empresariales. These business workshops help local Hispanic business owners and entrepreneurs learn more about business necessities. Local leaders give a presentation on the monthly topic and breakfast is served as well. Reminder: these workshops are in Spanish.</span>
LOCATION:Virtual\; inscr base para recibir la informaci n.
UID:e.2018.1502
SEQUENCE:3
DTSTAMP:20260419T123229Z
URL:https://members.westmihcc.org/events/details/virtual-talleres-empresariales-1502
END:VEVENT

END:VCALENDAR
