BEGIN:VCALENDAR
VERSION:2.0
PRODID:-//ChamberMaster//Event Calendar 2.0//EN
METHOD:PUBLISH
X-PUBLISHED-TTL:P3D
REFRESH-INTERVAL:P3D
CALSCALE:GREGORIAN
BEGIN:VEVENT
DTSTART:20180713T200000Z
DTEND:20180713T210000Z
X-MICROSOFT-CDO-ALLDAYEVENT:FALSE
SUMMARY:W. Optical Ribbon Cutting & Open House Ceremony
DESCRIPTION:Please join us as we celebrate the opening of our second location on the Southeast side of Grand Rapids!. The Ribbon Cutting event will take place at 4:00 PM followed by an Open House. During the celebration\, we will provide tours through our office\, refreshments and lots of prizes! We look forward to seeing you there.
X-ALT-DESC;FMTTYPE=text/html:Please join us as we celebrate the opening of our second location on the Southeast side of Grand Rapids!. The Ribbon Cutting event will take place at 4:00 PM followed by an Open House. During the celebration\, we will provide tours through our office\, refreshments and lots of prizes! We look forward to seeing you there.<br />\n&nbsp\;
LOCATION:6750 Kalamazoo Ave NW Grand Rapids\, MI 49508
UID:e.2018.892
SEQUENCE:3
DTSTAMP:20260422T160103Z
URL:https://members.westmihcc.org/events/details/w-optical-ribbon-cutting-open-house-ceremony-892
END:VEVENT

END:VCALENDAR
