BEGIN:VCALENDAR
VERSION:2.0
PRODID:-//ChamberMaster//Event Calendar 2.0//EN
METHOD:PUBLISH
X-PUBLISHED-TTL:P3D
REFRESH-INTERVAL:P3D
CALSCALE:GREGORIAN
BEGIN:VEVENT
DTSTART:20181018T213000Z
DTEND:20181019T000000Z
X-MICROSOFT-CDO-ALLDAYEVENT:FALSE
SUMMARY:Wags & Whiskers- A C-SNIP Fundraiser
DESCRIPTION:C-SNIP invites you for a "spaytacular" evening of fun with complimentary beer/wine and delicious hors d'oeuvres. Get a jump on your holiday shopping at our silent auction and be inspired by the brief but powerful event program. Tickets are $45 ($50 after October 4th). Space is limited so reserve your tickets today. Proceeds will raise critical funds to ensure spay/neuter services are available to all pet owners\, regardless of financial circumstances. (Due to the nature of the venue\, this is a human only event)
X-ALT-DESC;FMTTYPE=text/html:C-SNIP invites you for a &quot\;spaytacular&quot\; evening of fun with complimentary beer/wine and delicious hors d&#39\;oeuvres. Get a jump on your holiday shopping at our silent auction and be inspired by the brief but powerful event program. Tickets are $45 ($50 after October 4th). Space is limited so reserve your tickets today. Proceeds will raise critical funds to ensure spay/neuter services are available to all pet owners\, regardless of financial circumstances. (Due to the nature of the venue\, this is a human only event)
LOCATION:The Venue at the Highlands
UID:e.2018.929
SEQUENCE:3
DTSTAMP:20260422T122507Z
URL:https://members.westmihcc.org/events/details/wags-whiskers-a-c-snip-fundraiser-929
END:VEVENT

END:VCALENDAR
