BEGIN:VCALENDAR
VERSION:2.0
PRODID:-//ChamberMaster//Event Calendar 2.0//EN
METHOD:PUBLISH
X-PUBLISHED-TTL:P3D
REFRESH-INTERVAL:P3D
CALSCALE:GREGORIAN
BEGIN:VEVENT
DTSTART:20180920T000000Z
DTEND:20180920T020000Z
X-MICROSOFT-CDO-ALLDAYEVENT:FALSE
SUMMARY:War on the Catwalk - The Queens from Season 10
DESCRIPTION:War on the Catwalk returns to DeVos Performance Hall on Wednesday\, September 19th at 8 PM with the Queens from RuPaul's Drag Race Season 10.
X-ALT-DESC;FMTTYPE=text/html:War on the Catwalk returns to DeVos Performance Hall on Wednesday\, September 19th at 8 PM with the Queens from RuPaul&#39\;s Drag Race Season 10.
LOCATION:DeVos Performance Hall
UID:e.2018.858
SEQUENCE:3
DTSTAMP:20260422T134121Z
URL:https://members.westmihcc.org/events/details/war-on-the-catwalk-the-queens-from-season-10-858
END:VEVENT

END:VCALENDAR
