BEGIN:VCALENDAR
VERSION:2.0
PRODID:-//ChamberMaster//Event Calendar 2.0//EN
METHOD:PUBLISH
X-PUBLISHED-TTL:P3D
REFRESH-INTERVAL:P3D
CALSCALE:GREGORIAN
BEGIN:VEVENT
DTSTART:20180619T120000Z
DTEND:20180622T013000Z
X-MICROSOFT-CDO-ALLDAYEVENT:FALSE
SUMMARY:WBENC National Conference and Business Fair
DESCRIPTION:The National Conference & Business Fair is the largest conference of its kind for women business owners in the U.S. The WBENC National Conference & Business Fair is attended by Women's Business Enterprises (WBEs)\; senior executives and procurement representatives from the Fortune 500 and the U.S. Government\; and select partner organizations whose missions align with WBENC's vision of expanding women's business opportunities in the marketplace. With three days of robust programming\, the conference features lectures and presentations from today's thought leaders\, engaging panel discussions\, 1:1 MatchMaker sessions\, networking receptions\, and a notable Business Fair..
X-ALT-DESC;FMTTYPE=text/html:<span style="font-family:arial\;"><span style="font-size:16px\;"><span style="letter-spacing: 0.4px\; background-color: rgb(255\, 255\, 255)\;">The National Conference &amp\; Business Fair is the largest conference of its kind for women business owners in the U.S. The WBENC National Conference &amp\; Business Fair is attended by Women&rsquo\;s Business Enterprises (WBEs)\; senior executives and procurement representatives from the Fortune 500 and the U.S. Government\; and select partner organizations whose missions align with WBENC&rsquo\;s vision of expanding women&rsquo\;s business opportunities in the marketplace. With three days of robust programming\, the conference features lectures and presentations from today&rsquo\;s thought leaders\, engaging panel discussions\,&nbsp\;</span><a href="http://conf.wbenc.org/1-1-matchmaker" style="background: rgb(255\, 255\, 255)\; text-decoration-line: none\; color: rgb(27\, 117\, 188)\; word-wrap: break-word\; font-family: din-2014\; font-size: 18px\; letter-spacing: 0.4px\;">1:1 MatchMaker</a><span style="letter-spacing: 0.4px\; background-color: rgb(255\, 255\, 255)\;">&nbsp\;sessions\, networking receptions\, and a notable Business Fair.</span><span style="letter-spacing: 0.4px\;">.</span></span></span>
LOCATION:Cobo Center 1 Washington Blvd. Detroit\, MI 48226
UID:e.2018.828
SEQUENCE:3
DTSTAMP:20260422T172110Z
URL:https://members.westmihcc.org/events/details/wbenc-national-conference-and-business-fair-828
END:VEVENT

END:VCALENDAR
