BEGIN:VCALENDAR
VERSION:2.0
PRODID:-//ChamberMaster//Event Calendar 2.0//EN
METHOD:PUBLISH
X-PUBLISHED-TTL:P3D
REFRESH-INTERVAL:P3D
CALSCALE:GREGORIAN
BEGIN:VEVENT
DTSTART:20190710T210000Z
DTEND:20190711T030000Z
X-MICROSOFT-CDO-ALLDAYEVENT:FALSE
SUMMARY:WDET & DSO Summer Street Party
DESCRIPTION:DSO Sosnick Courtyard Live Music & Food. Lawn chairs & blankets welcome! 5 p.m. Doors open. 6 p.m. NPR TINY DESK CONTEST Performance  WDET hosts: juried Michigan entries + public vote on the band to open the fest. 7 p.m. ISMAEL & THE EARTH ISLAND DRUMMERS wsg LANA MINI'S ORIENTAL DANCERS: DANCING ON TARAB WDET World Music host Ismael spins global dance music + live legendary Detroit's percussionists: Booker\; Marwan Amen-Ra\; Osvaldo Rivera\; Margret King Ahmed. Lana Mini & troupe are one of region's finest oriental dance ensembles. 8:30 p.m. WILL SESSIONS with THE DAMES - Funk outfit Will Sessions joins forces with Dames Brown\, electrifying vocal ensemble. 11-piece progressive Detroit band\, funk & boogie. THIS EVENT IS FREE AND OPEN TO THE PUBLIC! NO TICKET RESERVATION IS REQUIRED.
X-ALT-DESC;FMTTYPE=text/html:DSO Sosnick Courtyard Live Music &amp\; Food. Lawn chairs &amp\; blankets welcome! 5 p.m. Doors open. 6 p.m. NPR TINY DESK CONTEST Performance&ndash\; WDET hosts: juried Michigan entries + public vote on the band to open the fest. 7 p.m. ISMAEL &amp\; THE EARTH ISLAND DRUMMERS wsg LANA MINI&rsquo\;S ORIENTAL DANCERS: DANCING ON TARAB WDET World Music host Ismael spins global dance music + live legendary Detroit&#39\;s percussionists: Booker\; Marwan Amen-Ra\; Osvaldo Rivera\; Margret King Ahmed. Lana Mini &amp\; troupe are one of region&rsquo\;s finest oriental dance ensembles. 8:30 p.m. WILL SESSIONS with THE DAMES - Funk outfit Will Sessions joins forces with Dames Brown\, electrifying vocal ensemble. 11-piece progressive Detroit band\, funk &amp\; boogie. THIS EVENT IS FREE AND OPEN TO THE PUBLIC! NO TICKET RESERVATION IS REQUIRED.
LOCATION:Orchestra Hall 3711 Woodward Avenue Detroit \, Mi 48201
UID:e.2018.1271
SEQUENCE:3
DTSTAMP:20260420T003439Z
URL:https://members.westmihcc.org/events/details/wdet-dso-summer-street-party-1271
END:VEVENT

END:VCALENDAR
