BEGIN:VCALENDAR
VERSION:2.0
PRODID:-//ChamberMaster//Event Calendar 2.0//EN
METHOD:PUBLISH
X-PUBLISHED-TTL:P3D
REFRESH-INTERVAL:P3D
CALSCALE:GREGORIAN
BEGIN:VEVENT
DTSTART:20190320T230000Z
DTEND:20190321T020000Z
X-MICROSOFT-CDO-ALLDAYEVENT:FALSE
SUMMARY:Weezer and The Pixies
DESCRIPTION:Following a rapturously received summer tour\, Weezer returns to the to the road with Pixies this spring for a run of highly anticipated North American arena dates including a stop at Van Andel Arena on Wednesday\, March 20\, 2019 at 7:00PM. Weezer are: Brian Bell (guitar/vocals)\, Rivers Cuomo (vocals/guitar)\, Scott Shriner (bass/vocals) and Pat Wilson (drums).
X-ALT-DESC;FMTTYPE=text/html:Following a rapturously received summer tour\, Weezer returns to the to the road with Pixies this spring for a run of highly anticipated North American arena dates including a stop at Van Andel Arena on Wednesday\, March 20\, 2019 at 7:00PM. Weezer are: Brian Bell (guitar/vocals)\, Rivers Cuomo (vocals/guitar)\, Scott Shriner (bass/vocals) and Pat Wilson (drums).
LOCATION:Van Andel Arena
UID:e.2018.979
SEQUENCE:3
DTSTAMP:20260420T063125Z
URL:https://members.westmihcc.org/events/details/weezer-and-the-pixies-979
END:VEVENT

END:VCALENDAR
