BEGIN:VCALENDAR
VERSION:2.0
PRODID:-//ChamberMaster//Event Calendar 2.0//EN
METHOD:PUBLISH
X-PUBLISHED-TTL:P3D
REFRESH-INTERVAL:P3D
CALSCALE:GREGORIAN
BEGIN:VEVENT
DTSTART:20190727T000000Z
DTEND:20190727T030000Z
X-MICROSOFT-CDO-ALLDAYEVENT:FALSE
SUMMARY:"Weird Al" Yankovic: Strings Attached Tour
DESCRIPTION:"Weird Al" Yankovic is the biggest-selling comedy recording artist in history\, earning four Grammys and fifteen career nominations. The legendary musical satirist follows his sold-out 2018 tour of intimate venues - where he played deep cuts for his hardcore fans - with his biggest show ever. Weird Al is back to playing the hits and classics with his Strings Attached tour\, a high-energy rock and comedy production featuring his original band\, costumes\, props\, a video wall and - for the first time - background singers and a full symphony orchestra. "Weird Al" Yankovic is best known for sending up the biggest hits in the world with his own hit parodies\, including "Eat It\," "Like A Surgeon\," "Smells Like Nirvana\," "Amish Paradise\," "White & Nerdy\," and "Word Crimes." Yankovic's last album\, 2014's Mandatory Fun\, made history as the first comedy album ever to debut at #1 on the Billboard Top 200 chart.
X-ALT-DESC;FMTTYPE=text/html:&ldquo\;Weird Al&rdquo\; Yankovic is the biggest-selling comedy recording artist in history\, earning four Grammys and fifteen career nominations. The legendary musical satirist follows his sold-out 2018 tour of intimate venues - where he played deep cuts for his hardcore fans - with his biggest show ever. Weird Al is back to playing the hits and classics with his Strings Attached tour\, a high-energy rock and comedy production featuring his original band\, costumes\, props\, a video wall and - for the first time - background singers and a full symphony orchestra. &ldquo\;Weird Al&rdquo\; Yankovic is best known for sending up the biggest hits in the world with his own hit parodies\, including &ldquo\;Eat It\,&rdquo\; &ldquo\;Like A Surgeon\,&rdquo\; &ldquo\;Smells Like Nirvana\,&rdquo\; &ldquo\;Amish Paradise\,&rdquo\; &ldquo\;White &amp\; Nerdy\,&rdquo\; and &ldquo\;Word Crimes.&rdquo\; Yankovic&rsquo\;s last album\, 2014&rsquo\;s Mandatory Fun\, made history as the first comedy album ever to debut at #1 on the Billboard Top 200 chart.
LOCATION:DeVos Performance Hall
UID:e.2018.997
SEQUENCE:3
DTSTAMP:20260420T002208Z
URL:https://members.westmihcc.org/events/details/weird-al-yankovic-strings-attached-tour-997
END:VEVENT

END:VCALENDAR
