BEGIN:VCALENDAR
VERSION:2.0
PRODID:-//ChamberMaster//Event Calendar 2.0//EN
METHOD:PUBLISH
X-PUBLISHED-TTL:P3D
REFRESH-INTERVAL:P3D
CALSCALE:GREGORIAN
BEGIN:VEVENT
DTSTART:20191005T140000Z
DTEND:20191006T200000Z
X-MICROSOFT-CDO-ALLDAYEVENT:FALSE
SUMMARY:West Michigan Cannabis Expo
DESCRIPTION:West Michigan Cannabis Expo is one of the first events of its kind\, focusing solely on the newly emerging Michigan market. Many cannabis industry leaders\, policymakers\, entrepreneurs\, and newcomers will convene to discuss best practices in emerging topics\, brush up on policy issues and exchange insider secrets. Exhibiting opportunities can be customized for any company or organization. WMCE provides a unique opportunity to develop new business leads\, to strengthen client relationships\, to brand your company name\, and to generate awareness of your organization. More information on attending the expo will be announced soon. Visit www.wmcannabisexpo.com for more information or email chris@wmcannabisexpo.com to learn about sponsoring and exhibiting.
X-ALT-DESC;FMTTYPE=text/html:West Michigan Cannabis Expo is one of the first events of its kind\, focusing solely on the newly emerging Michigan market. Many cannabis industry leaders\, policymakers\, entrepreneurs\, and newcomers will convene to discuss best practices in emerging topics\, brush up on policy issues and exchange insider secrets. Exhibiting opportunities can be customized for any company or organization. WMCE provides a unique opportunity to develop new business leads\, to strengthen client relationships\, to brand your company name\, and to generate awareness of your organization. More information on attending the expo will be announced soon. Visit www.wmcannabisexpo.com for more information or email chris@wmcannabisexpo.com to learn about sponsoring and exhibiting.
LOCATION:The DeltaPlex Arena
UID:e.2018.1201
SEQUENCE:3
DTSTAMP:20260419T212410Z
URL:https://members.westmihcc.org/events/details/west-michigan-cannabis-expo-1201
END:VEVENT

END:VCALENDAR
