BEGIN:VCALENDAR
VERSION:2.0
PRODID:-//ChamberMaster//Event Calendar 2.0//EN
METHOD:PUBLISH
X-PUBLISHED-TTL:P3D
REFRESH-INTERVAL:P3D
CALSCALE:GREGORIAN
BEGIN:VEVENT
DTSTART:20200428T184500Z
DTEND:20200428T191500Z
X-MICROSOFT-CDO-ALLDAYEVENT:FALSE
SUMMARY:West Michigan Chamber Call with Governor Gretchen Whitmer
DESCRIPTION:Governor Gretchen Whitmer will be hosting a discussion with West Michigan chamber members. Register to join the call and learn what the State of Michigan is doing to help the West Michigan business community.\n\nNeed help registering? Call (616) 452-3960. \n\n***\n\nLa Gobernadora Gretchen Whitmer organizara una discusi n con miembros de las C maras de Comercio en el Oeste de Michigan. Inscr base para participar en la llamada y para aprender lo que el estado de Michigan esta haciendo para ayudar a la comunidad empresarial en el Oeste de Michigan. \n\nNecesita ayuda completando su inscripci n? Llame al (616) 452-3960.
X-ALT-DESC;FMTTYPE=text/html:<span style="color: rgb(0\, 0\, 0)\; font-family: Helvetica\, sans-serif\; font-size: 16px\; text-align: center\;">Governor Gretchen Whitmer will be hosting a discussion with West Michigan chamber members. Register to join the call and learn what the State of Michigan is doing to help the West Michigan business community.<br />\nNeed help registering? Call (616) 452-3960.&nbsp\;<br />\n***<br />\nLa Gobernadora Gretchen Whitmer organizara una discusi&oacute\;n con miembros de las C&aacute\;maras de Comercio en el Oeste de Michigan. Inscr&iacute\;base para participar en la llamada y para aprender lo que el estado de Michigan esta haciendo para ayudar a la comunidad empresarial en el Oeste de Michigan.&nbsp\;<br />\nNecesita ayuda completando su inscripci&oacute\;n? Llame al (616) 452-3960.&nbsp\;</span>
LOCATION:
UID:e.2018.1503
SEQUENCE:3
DTSTAMP:20260419T123720Z
URL:https://members.westmihcc.org/events/details/west-michigan-chamber-call-with-governor-gretchen-whitmer-1503
END:VEVENT

END:VCALENDAR
