BEGIN:VCALENDAR
VERSION:2.0
PRODID:-//ChamberMaster//Event Calendar 2.0//EN
METHOD:PUBLISH
X-PUBLISHED-TTL:P3D
REFRESH-INTERVAL:P3D
CALSCALE:GREGORIAN
BEGIN:VEVENT
DTSTART:20161110T190000Z
DTEND:20161110T220000Z
X-MICROSOFT-CDO-ALLDAYEVENT:FALSE
SUMMARY:West Michigan Hispanic Chamber of Commerce Career Fair
DESCRIPTION:As we continue our journey of helping Businesses and Business leaders\, we are excited to announce that we will have our very first West Michigan Hispanic Chamber of Commerce Career Fair on Thursday November 10th 2016 at DeVos Place Ballroom A. \n\nAs we work with members like you in our mission of increasing Minority talent to fulfill your requests for Minority talent acquisition\, we see a disconnect and a need to provide a space where employers of West Michigan and students/graduates of West Michigan can connect and thereby retain Minority talent in our region.
X-ALT-DESC;FMTTYPE=text/html:<span style="font-size:12.0pt\;">As we continue our journey of helping Businesses and Business leaders\, we are excited to announce that we will have our very first West Michigan Hispanic Chamber of Commerce Career Fair on Thursday November 10<sup>th</sup> 2016 at DeVos Place Ballroom A. </span><br />\n<span style="font-size:12.0pt\;">As we work with members like you in our mission of increasing Minority talent to fulfill your requests for Minority talent acquisition\, we see a disconnect and a need to provide a space where employers of West Michigan and students/graduates of West Michigan can connect and thereby retain Minority talent in our region.&nbsp\;</span>
LOCATION:DeVos Plcae Ballroom A 303 Monroe Ave NW Grand Rapids\, MI 49503
UID:e.2018.498
SEQUENCE:3
DTSTAMP:20260425T200836Z
URL:https://members.westmihcc.org/events/details/west-michigan-hispanic-chamber-of-commerce-career-fair-498
END:VEVENT

END:VCALENDAR
