BEGIN:VCALENDAR
VERSION:2.0
PRODID:-//ChamberMaster//Event Calendar 2.0//EN
METHOD:PUBLISH
X-PUBLISHED-TTL:P3D
REFRESH-INTERVAL:P3D
CALSCALE:GREGORIAN
BEGIN:VEVENT
DTSTART:20171221T130000Z
DTEND:20171221T143000Z
X-MICROSOFT-CDO-ALLDAYEVENT:FALSE
SUMMARY:West Michigan Hispanic Chamber of Commerce-Year-End Membership Breakfast
DESCRIPTION:Don't miss the opportunity to network with Hispanic Chamber members\, Board of Directors and stakeholders from the West Michigan community. The Year-End annual meeting features a hot breakfast\, a presentation of the success the West Michigan Hispanic Chamber of Commerce had in 2017\, and a preview of the 2018 new projects.\n\nSpace is limited\, register today!\n\n\nREGISTER HERE
X-ALT-DESC;FMTTYPE=text/html:<p style="margin: 0px\; padding: 0px\; color: rgb(102\, 106\, 115)\; font-family: &quot\;Benton Sans&quot\;\, &quot\;Helvetica Neue&quot\;\, Helvetica\, Roboto\, Arial\, sans-serif\; font-size: 15px\; letter-spacing: 0.5px\;"><span style="font-family:verdana\;">Don&#39\;t miss the opportunity to network with Hispanic Chamber members\, Board of Directors and stakeholders from the West Michigan community. The Year-End annual meeting features a&nbsp\;<span style="font-weight: 700\; padding-top: 0px\;">hot breakfast</span>\,&nbsp\;<span style="font-weight: 700\;">a presentation of the success the West Michigan Hispanic Chamber of Commerce had in 2017\, and a preview of the 2018 new projects.</span></span></p>\n\n<p style="margin: 0px\; padding: 10px 0px 0px\; color: rgb(102\, 106\, 115)\; font-family: &quot\;Benton Sans&quot\;\, &quot\;Helvetica Neue&quot\;\, Helvetica\, Roboto\, Arial\, sans-serif\; font-size: 15px\; letter-spacing: 0.5px\;">Space is limited\, register today!</p>\n<br />\n<span style="font-size:12px\;"><span style="font-family:verdana\;"><strong><a href="https://www.eventbrite.com/e/west-michigan-hispanic-chamber-of-commerce-year-end-membership-breakfast-tickets-41023325872">REGISTER HERE</a></strong></span></span>
LOCATION:University Club of Grand Rapids 111 Lyon St NW\, Grand Rapids\, MI 49503 PARKING: Enter the ramps from Monroe Ave. Parking will be validated by our host.
UID:e.2018.717
SEQUENCE:3
DTSTAMP:20260423T021638Z
URL:https://members.westmihcc.org/events/details/west-michigan-hispanic-chamber-of-commerce-year-end-membership-breakfast-717
END:VEVENT

END:VCALENDAR
