BEGIN:VCALENDAR
VERSION:2.0
PRODID:-//ChamberMaster//Event Calendar 2.0//EN
METHOD:PUBLISH
X-PUBLISHED-TTL:P3D
REFRESH-INTERVAL:P3D
CALSCALE:GREGORIAN
BEGIN:VEVENT
DTSTART:20160910T130000Z
DTEND:20160910T160000Z
X-MICROSOFT-CDO-ALLDAYEVENT:FALSE
SUMMARY:WEST MICHIGAN LATINO HEALTH 5K
DESCRIPTION:The purpose is to get Hispanic families to begin a healthy lifestyle and to incorporate physical activity such as walking and running to their daily routines. Physical activity along with proper diet will reduce the weight and thereby reducing the chronic diseases.\n\nA Health and Wellness promotion with focus on the Hispanic community that has higher instances of obesity\, diabetes\, hypertension\, high cholesterol\, and strokes. The reason for highest amount of chronic diseases in the Hispanic community has been attributed to poor diets and lack of physical activity.\n\nThe 5k is geared towards Hispanic families\, but it is open to all and it is encouraged that non-Hispanic enthusiasts join the walk/run as well to support in the endeavor.
X-ALT-DESC;FMTTYPE=text/html:The purpose is to get Hispanic families to begin a healthy lifestyle and to&nbsp\;incorporate physical activity such as walking and running to their daily routines.&nbsp\;Physical activity along with proper diet will reduce the weight and thereby reducing&nbsp\;the chronic diseases.<br />\nA Health and Wellness promotion with focus on the Hispanic community that has&nbsp\;higher instances of obesity\, diabetes\, hypertension\, high cholesterol\, and strokes.&nbsp\;The reason for highest amount of chronic diseases in the Hispanic community has&nbsp\;been attributed to poor diets and lack of physical activity.<br />\nThe 5k is geared towards Hispanic families\, but it is open to all and it is encouraged&nbsp\;that non-Hispanic enthusiasts join the walk/run as well to support in the endeavor.<br />\n&nbsp\;
LOCATION:Roberto Clemente Park 800 Godfrey SW\, Grand Rapids\, MI
UID:e.2018.423
SEQUENCE:3
DTSTAMP:20260425T230034Z
URL:https://members.westmihcc.org/events/details/west-michigan-latino-health-5k-09-10-2016-423
END:VEVENT

END:VCALENDAR
