BEGIN:VCALENDAR
VERSION:2.0
PRODID:-//ChamberMaster//Event Calendar 2.0//EN
METHOD:PUBLISH
X-PUBLISHED-TTL:P3D
REFRESH-INTERVAL:P3D
CALSCALE:GREGORIAN
BEGIN:VEVENT
DTSTART:20171021T130000Z
DTEND:20171021T160000Z
X-MICROSOFT-CDO-ALLDAYEVENT:FALSE
SUMMARY:WEST MICHIGAN LATINO HEALTH 5K
DESCRIPTION:The purpose is to get Hispanic families to begin a healthy lifestyle and to incorporate physical activity such as walking and running to their daily routines. Physical activity along with proper diet will reduce the weight and thereby reducing the chronic diseases.\n\nA Health and Wellness promotion with focus on the Hispanic community that has higher instances of obesity\, diabetes\, hypertension\, high cholesterol\, and strokes. The reason for highest amount of chronic diseases in the Hispanic community has been attributed to poor diets and lack of physical activity.\n\nThe 5k is geared towards Hispanic families\, but it is open to all and it is encouraged that non-Hispanic enthusiasts join the walk/run as well to support in the endeavor.
X-ALT-DESC;FMTTYPE=text/html:<span style="color: rgb(85\, 85\, 85)\; font-family: &quot\;Helvetica Neue&quot\;\, Helvetica\, Arial\, sans-serif\; font-size: 16px\;">The purpose is to get Hispanic families to begin a healthy lifestyle and to&nbsp\;incorporate physical activity such as walking and running to their daily routines.&nbsp\;Physical activity along with proper diet will reduce the weight and thereby reducing&nbsp\;the chronic diseases.</span><br style="box-sizing: content-box\; bottom: auto\; clear: none\; color: rgb(85\, 85\, 85)\; content: normal\; direction: inherit\; display: inline\; empty-cells: show\; float: none\; font-variant-numeric: inherit\; font-stretch: inherit\; font-size: 16px\; font-family: &quot\;Helvetica Neue&quot\;\, Helvetica\, Arial\, sans-serif\; left: auto\; line-height: inherit\; margin: 0px\; max-height: none\; max-width: none\; min-height: initial\; min-width: initial\; opacity: 1\; outline-offset: 0px\; overflow: visible\; padding: 0px\; position: static\; resize: none\; right: auto\; table-layout: auto\; text-overflow: clip\; top: auto\; vertical-align: baseline\; visibility: inherit\; word-break: inherit\; word-wrap: inherit\; z-index: auto\; background-image: none\; background-position: initial\; background-size: initial\; background-repeat: initial\; background-attachment: initial\; background-origin: initial\; background-clip: initial\; border: none\; border-collapse: separate\; border-radius: 0px\; height: auto\; width: auto\;" />\n<span style="color: rgb(85\, 85\, 85)\; font-family: &quot\;Helvetica Neue&quot\;\, Helvetica\, Arial\, sans-serif\; font-size: 16px\;">A Health and Wellness promotion with focus on the Hispanic community that has&nbsp\;higher instances of obesity\, diabetes\, hypertension\, high cholesterol\, and strokes.&nbsp\;The reason for highest amount of chronic diseases in the Hispanic community has&nbsp\;been attributed to poor diets and lack of physical activity.</span><br style="box-sizing: content-box\; bottom: auto\; clear: none\; color: rgb(85\, 85\, 85)\; content: normal\; direction: inherit\; display: inline\; empty-cells: show\; float: none\; font-variant-numeric: inherit\; font-stretch: inherit\; font-size: 16px\; font-family: &quot\;Helvetica Neue&quot\;\, Helvetica\, Arial\, sans-serif\; left: auto\; line-height: inherit\; margin: 0px\; max-height: none\; max-width: none\; min-height: initial\; min-width: initial\; opacity: 1\; outline-offset: 0px\; overflow: visible\; padding: 0px\; position: static\; resize: none\; right: auto\; table-layout: auto\; text-overflow: clip\; top: auto\; vertical-align: baseline\; visibility: inherit\; word-break: inherit\; word-wrap: inherit\; z-index: auto\; background-image: none\; background-position: initial\; background-size: initial\; background-repeat: initial\; background-attachment: initial\; background-origin: initial\; background-clip: initial\; border: none\; border-collapse: separate\; border-radius: 0px\; height: auto\; width: auto\;" />\n<span style="color: rgb(85\, 85\, 85)\; font-family: &quot\;Helvetica Neue&quot\;\, Helvetica\, Arial\, sans-serif\; font-size: 16px\;">The 5k is geared towards Hispanic families\, but it is open to all and it is encouraged&nbsp\;that non-Hispanic enthusiasts join the walk/run as well to support in the endeavor.</span>
LOCATION:Roosevelt Park 739 Van Raalte SW. Grand Rapids\, MI 49503
UID:e.2018.659
SEQUENCE:3
DTSTAMP:20260423T051111Z
URL:https://members.westmihcc.org/events/details/west-michigan-latino-health-5k-659
END:VEVENT

END:VCALENDAR
