BEGIN:VCALENDAR
VERSION:2.0
PRODID:-//ChamberMaster//Event Calendar 2.0//EN
METHOD:PUBLISH
X-PUBLISHED-TTL:P3D
REFRESH-INTERVAL:P3D
CALSCALE:GREGORIAN
BEGIN:VEVENT
DTSTART:20160910T130000Z
DTEND:20160910T170000Z
X-MICROSOFT-CDO-ALLDAYEVENT:FALSE
SUMMARY:West Michigan Mom's Sale-September 10\, 2016
DESCRIPTION:West Michigan Mom's Sale September 10\, 2016 (Saturday) Hours: 9 am   1 pm DeVos Place-Grand Rapids\, MI www.westmichiganmomssale.com Looking for Sellers and Buyers! Midwest's largest Mom-to-Mom Sale is open to the General Public. Small Strollers are Welcome! Sell OR Buy gently used baby & children Clothing (boys/girls size 0-16)\, maternity clothing\, toys\, nursery furniture and anything else that is baby\, child\, or maternity related. Including shoes\, quilts\, burp cloths\, puzzles\, car seats\, bouncy seats\, high chairs\, strollers\, cribs\, bedroom furniture\, accessories and much more! Show Hours: Saturday 9 am-1 pm. Donation at the door benefits Safe Haven Ministries. For additional information and to register online\, go to www.westmichiganmomssale.com.
X-ALT-DESC;FMTTYPE=text/html:West Michigan Mom&rsquo\;s Sale September 10\, 2016 (Saturday) Hours: 9 am &ndash\; 1 pm DeVos Place-Grand Rapids\, MI www.westmichiganmomssale.com Looking for Sellers and Buyers! Midwest&rsquo\;s largest Mom-to-Mom Sale is open to the General Public. Small Strollers are Welcome! Sell OR Buy gently used baby &amp\; children Clothing (boys/girls size 0-16)\, maternity clothing\, toys\, nursery furniture and anything else that is baby\, child\, or maternity related. Including shoes\, quilts\, burp cloths\, puzzles\, car seats\, bouncy seats\, high chairs\, strollers\, cribs\, bedroom furniture\, accessories and much more! Show Hours: Saturday 9 am-1 pm. Donation at the door benefits Safe Haven Ministries. For additional information and to register online\, go to www.westmichiganmomssale.com.
LOCATION:DeVos Place 303 Monroe Ave NW Grand Rapids MI 49503
UID:e.2018.415
SEQUENCE:3
DTSTAMP:20260425T230034Z
URL:https://members.westmihcc.org/events/details/west-michigan-mom-s-sale-september-10-2016-09-10-2016-415
END:VEVENT

END:VCALENDAR
