BEGIN:VCALENDAR
VERSION:2.0
PRODID:-//ChamberMaster//Event Calendar 2.0//EN
METHOD:PUBLISH
X-PUBLISHED-TTL:P3D
REFRESH-INTERVAL:P3D
CALSCALE:GREGORIAN
BEGIN:VEVENT
DTSTART:20200113T170000Z
DTEND:20200113T183000Z
X-MICROSOFT-CDO-ALLDAYEVENT:FALSE
SUMMARY:West Michigan Sustainable Business Forum January Luncheon
DESCRIPTION:West Michigan Sustainable Business Forum will host a forum on energy efficiency for commercial and industrial operations on Monday\, January 13 at Creston Brewery. The luncheon will highlight underutilized and underpublicized opportunities to improve sustainability and cost savings\, featuring unique success stories from forum members. Featuring presentations from SIGA Compressed Air Solutions\, Foresight Management\, Third Coast Test and Balance\, Catalyst Partners and E3M Solutions.
X-ALT-DESC;FMTTYPE=text/html:West Michigan Sustainable Business Forum will host a forum on energy efficiency for commercial and industrial operations on Monday\, January 13 at Creston Brewery. The luncheon will highlight underutilized and underpublicized opportunities to improve sustainability and cost savings\, featuring unique success stories from forum members. Featuring presentations from SIGA Compressed Air Solutions\, Foresight Management\, Third Coast Test and Balance\, Catalyst Partners and E3M Solutions.
LOCATION:Creston Brewery 1504 Plainfield Ave NE Grand Rapids\, MI 49505
UID:e.2018.1413
SEQUENCE:3
DTSTAMP:20260419T154004Z
URL:https://members.westmihcc.org/events/details/west-michigan-sustainable-business-forum-january-luncheon-1413
END:VEVENT

END:VCALENDAR
