BEGIN:VCALENDAR
VERSION:2.0
PRODID:-//ChamberMaster//Event Calendar 2.0//EN
METHOD:PUBLISH
X-PUBLISHED-TTL:P3D
REFRESH-INTERVAL:P3D
CALSCALE:GREGORIAN
BEGIN:VEVENT
DTSTART:20191108T163000Z
DTEND:20191108T183000Z
X-MICROSOFT-CDO-ALLDAYEVENT:FALSE
SUMMARY:West Michigan Sustainable Business Forum: Sierra Club's Aaron Mair on Clean\, Green and Just Economy
DESCRIPTION:West Michigan Sustainable Business Forum and Sierra Club Michigan Chapter will host a luncheon and forum with the Sierra Club's Aaron Mair on Friday\, November 8 at the Grand Rapids Center for Community Transformation\, part of a nationwide tour engaging civic\, labor\, business\, environmental justice and educational leaders in developing a shared vision for a clean\, green and just economy.
X-ALT-DESC;FMTTYPE=text/html:West Michigan Sustainable Business Forum and Sierra Club Michigan Chapter will host a luncheon and forum with the Sierra Club&rsquo\;s Aaron Mair on Friday\, November 8 at the Grand Rapids Center for Community Transformation\, part of a nationwide tour engaging civic\, labor\, business\, environmental justice and educational leaders in developing a shared vision for a clean\, green and just economy.
LOCATION:Grand Rapids Center for Community Transformation 1530 Madison Ave SE Grand Rapids\, MI 49507 United States
UID:e.2018.1375
SEQUENCE:3
DTSTAMP:20260419T183407Z
URL:https://members.westmihcc.org/events/details/west-michigan-sustainable-business-forum-sierra-club-s-aaron-mair-on-clean-green-and-just-economy-1375
END:VEVENT

END:VCALENDAR
