BEGIN:VCALENDAR
VERSION:2.0
PRODID:-//ChamberMaster//Event Calendar 2.0//EN
METHOD:PUBLISH
X-PUBLISHED-TTL:P3D
REFRESH-INTERVAL:P3D
CALSCALE:GREGORIAN
BEGIN:VEVENT
DTSTART:20190513T153000Z
DTEND:20190513T173000Z
X-MICROSOFT-CDO-ALLDAYEVENT:FALSE
SUMMARY:West Michigan Sustainable Business Forum: Sustainability in the Tire Industry\, The Transgender Experience
DESCRIPTION:The West Michigan Sustainable Business Forum will host a forum presentation discussing sustainability in the tire industry\, and\, separately\, the transgender experience on Monday\, May 13 at Kendall College of Art & Design. Featured speaker Ashley\, Fahey\, Sustainability Principal at The Goodyear Tire & Rubber Company will provide insights on how the industry is evolving to meet the needs of the mobility revolution\, share new innovations at Goodyear and the new organizational strategy used to address sustainability. Ashley will also talk about her own personal story in coming out as a transgender woman and how employers and co-workers can better understand the transgender community as a part of the social piece of sustainability.
X-ALT-DESC;FMTTYPE=text/html:The West Michigan Sustainable Business Forum will host a forum presentation discussing sustainability in the tire industry\, and\, separately\, the transgender experience on Monday\, May 13 at Kendall College of Art &amp\; Design. Featured speaker Ashley\, Fahey\, Sustainability Principal at The Goodyear Tire &amp\; Rubber Company will provide insights on how the industry is evolving to meet the needs of the mobility revolution\, share new innovations at Goodyear and the new organizational strategy used to address sustainability. Ashley will also talk about her own personal story in coming out as a transgender woman and how employers and co-workers can better understand the transgender community as a part of the social piece of sustainability.
LOCATION:Kendall College of Art & Design Woodbridge N. Ferris Building 17 Pearl St NW Grand Rapids\, MI 49503 United States
UID:e.2018.1206
SEQUENCE:3
DTSTAMP:20260420T033413Z
URL:https://members.westmihcc.org/events/details/west-michigan-sustainable-business-forum-sustainability-in-the-tire-industry-the-transgender-experience-1206
END:VEVENT

END:VCALENDAR
