BEGIN:VCALENDAR
VERSION:2.0
PRODID:-//ChamberMaster//Event Calendar 2.0//EN
METHOD:PUBLISH
X-PUBLISHED-TTL:P3D
REFRESH-INTERVAL:P3D
CALSCALE:GREGORIAN
BEGIN:VEVENT
DTSTART:20190916T160000Z
DTEND:20190916T173000Z
X-MICROSOFT-CDO-ALLDAYEVENT:FALSE
SUMMARY:West Michigan Sustainable Business Forum: The Future of Sustainable Business
DESCRIPTION:West Michigan Sustainable Business Forum will be kicking off its 25th Anniversary Celebration with a luncheon forum on the future of sustainable business on Monday\, September 16 at Frederik Meijer Gardens. Join us for a roundtable dialogue with the most recent West Michigan Future Sustainable Business Hall of Fame winners: Matthew Van Sweden\, Integrative Designer\, Catalyst Partners Sarah Chartier\, Senior Sustainability Project Manager\, Spectrum Health System Eric Saigeon\, Senior Global Sustainability & Energy Manager\, Intertek
X-ALT-DESC;FMTTYPE=text/html:West Michigan Sustainable Business Forum will be kicking off its 25th Anniversary Celebration with a luncheon forum on the future of sustainable business on Monday\, September 16 at Frederik Meijer Gardens. Join us for a roundtable dialogue with the most recent West Michigan Future Sustainable Business Hall of Fame winners: Matthew Van Sweden\, Integrative Designer\, Catalyst Partners Sarah Chartier\, Senior Sustainability Project Manager\, Spectrum Health System Eric Saigeon\, Senior Global Sustainability &amp\; Energy Manager\, Intertek
LOCATION:Frederik Meijer Gardens & Sculpture Park 1000 E Beltline Ave NE Grand Rapids\, MI 49525
UID:e.2018.1327
SEQUENCE:3
DTSTAMP:20260419T212849Z
URL:https://members.westmihcc.org/events/details/west-michigan-sustainable-business-forum-the-future-of-sustainable-business-1327
END:VEVENT

END:VCALENDAR
