BEGIN:VCALENDAR
VERSION:2.0
PRODID:-//ChamberMaster//Event Calendar 2.0//EN
METHOD:PUBLISH
X-PUBLISHED-TTL:P3D
REFRESH-INTERVAL:P3D
CALSCALE:GREGORIAN
BEGIN:VEVENT
DTSTART:20190308T150000Z
DTEND:20190310T200000Z
X-MICROSOFT-CDO-ALLDAYEVENT:FALSE
SUMMARY:West Michigan Women's Expo
DESCRIPTION:West Michigan Women's Expo March 8-10\, 2019 Hours: Fri 10-6\, Sat 10-6\, Sun 11-4 DeVos Place - Grand Rapids\, MI www.KohlerExpo.com Your Health\, Your Home\, Your Style! Hundreds of Exhibits Tailored to Women and their Families. Bring your friends and family to explore all that the Women's Expo has to offer Health\, Beauty\, Fitness\, Fashion\, Finance\, and Fun! Women's Expo exhibits may include:   Fashion Clothing & Accessories   Health & Wellness   Hair Styling\, Hair Tools & Products   Vacation & Travel Getaways   Jewelry & Jewelry Cleaner   Massage & Spa Services   Sunglasses & Gift Ideas   Home D cor & Improvements   Cosmetics & Skincare   Weight Loss & Fitness   Handbags\, Purses & Totes   Wine & Wine Slushy Mixes   Bras & Shapewear   Cookware & Culinary   Body Contouring & Rejuvenation   Pillows & Sheets   Essential Oils   Teeth Whitening & Tanning   Dips & Seasonings\, Bread\, Meats & Sausage\, & Food Samples   Door Prizes   And much more! Spend the day\, spend the weekend! Open to the Public. Tickets are available at the door or online at www.KohlerExpo.com. Hours: Fri. 10am-6pm\, Sat. 10am-6pm\, and Sun. 11am-4pm. For additional information and discount coupon\, please visit www.KohlerExpo.com. Kohler Expos\, Inc. produces: Fall Bridal Show of West Michigan   September 21-22\, 2018 - DeVos Place\, Grand Rapids\, Michigan Kids and Family Expo   January 26\, 2019   DeVos Place\, Grand Rapids\, Michigan Winter Bridal Show of West Michigan   January 26\, 2019   DeVos Place\, Grand Rapids\, Michigan Mid-Michigan Women's Expo   February 8-10\, 2019 - Lansing Center\, Lansing\, Michigan West Michigan Women's Expo   March 8-10\, 2019 - DeVos Place\, Grand Rapids\, Michigan
X-ALT-DESC;FMTTYPE=text/html:West Michigan Women&rsquo\;s Expo March 8-10\, 2019 Hours: Fri 10-6\, Sat 10-6\, Sun 11-4 DeVos Place - Grand Rapids\, MI www.KohlerExpo.com Your Health\, Your Home\, Your Style! Hundreds of Exhibits Tailored to Women and their Families. Bring your friends and family to explore all that the Women&rsquo\;s Expo has to offer&hellip\;Health\, Beauty\, Fitness\, Fashion\, Finance\, and Fun! Women&rsquo\;s Expo exhibits may include: &bull\; Fashion Clothing &amp\; Accessories &bull\; Health &amp\; Wellness &bull\; Hair Styling\, Hair Tools &amp\; Products &bull\; Vacation &amp\; Travel Getaways &bull\; Jewelry &amp\; Jewelry Cleaner &bull\; Massage &amp\; Spa Services &bull\; Sunglasses &amp\; Gift Ideas &bull\; Home D&eacute\;cor &amp\; Improvements &bull\; Cosmetics &amp\; Skincare &bull\; Weight Loss &amp\; Fitness &bull\; Handbags\, Purses &amp\; Totes &bull\; Wine &amp\; Wine Slushy Mixes &bull\; Bras &amp\; Shapewear &bull\; Cookware &amp\; Culinary &bull\; Body Contouring &amp\; Rejuvenation &bull\; Pillows &amp\; Sheets &bull\; Essential Oils &bull\; Teeth Whitening &amp\; Tanning &bull\; Dips &amp\; Seasonings\, Bread\, Meats &amp\; Sausage\, &amp\; Food Samples &bull\; Door Prizes &bull\; And much more! Spend the day\, spend the weekend! Open to the Public. Tickets are available at the door or online at www.KohlerExpo.com. Hours: Fri. 10am-6pm\, Sat. 10am-6pm\, and Sun. 11am-4pm. For additional information and discount coupon\, please visit www.KohlerExpo.com. Kohler Expos\, Inc. produces: Fall Bridal Show of West Michigan &ndash\; September 21-22\, 2018 - DeVos Place\, Grand Rapids\, Michigan Kids and Family Expo &ndash\; January 26\, 2019 &ndash\; DeVos Place\, Grand Rapids\, Michigan Winter Bridal Show of West Michigan &ndash\; January 26\, 2019 &ndash\; DeVos Place\, Grand Rapids\, Michigan Mid-Michigan Women&rsquo\;s Expo &ndash\; February 8-10\, 2019 - Lansing Center\, Lansing\, Michigan West Michigan Women&rsquo\;s Expo &ndash\; March 8-10\, 2019 - DeVos Place\, Grand Rapids\, Michigan
LOCATION:DeVos Place - Grand Rapids
UID:e.2018.865
SEQUENCE:3
DTSTAMP:20260420T064245Z
URL:https://members.westmihcc.org/events/details/west-michigan-women-s-expo-03-08-2019-865
END:VEVENT

END:VCALENDAR
