BEGIN:VCALENDAR
VERSION:2.0
PRODID:-//ChamberMaster//Event Calendar 2.0//EN
METHOD:PUBLISH
X-PUBLISHED-TTL:P3D
REFRESH-INTERVAL:P3D
CALSCALE:GREGORIAN
BEGIN:VEVENT
DTSTART:20200313T150000Z
DTEND:20200315T200000Z
X-MICROSOFT-CDO-ALLDAYEVENT:FALSE
SUMMARY:West Michigan Women's Expo
DESCRIPTION:West Michigan Women's Expo March 13-15\, 2020 Hours: Fri 10-6\, Sat 10-6\, Sun 11-4 DeVos Place - Grand Rapids\, MI www.KohlerExpo.com Your Health\, Your Home\, Your Style! Over 350 Exhibits\, Seminars\, Shopping and Fun that aim to provide a weekend of entertainment\, education and enjoyment tailored to Women and their Families. Women's Expo exhibits may include:   Fashion Clothing & Accessories   Health & Wellness   Hair Styling\, Hair Tools & Products   Vacation & Travel Getaways   Jewelry & Jewelry Cleaner   Massage & Spa Services   Gift Ideas   Home D cor & Improvements   Cosmetics & Skincare   Weight Loss & Fitness   Handbags\, Purses & Totes   Wine & Wine Slushy Mixes   Bras & Shapewear   Cookware & Culinary   Body Contouring & Rejuvenation   Pillows & Sheets   Essential Oils   Teeth Whitening & Tanning   Dips & Seasonings\, Bread\, Fudge\, & many Food Samples   Door Prizes   And much more! Spend the day\, spend the weekend! Open to the Public. Tickets are available at the door or online at www.KohlerExpo.com. Hours: Fri. 10am-6pm\, Sat. 10am-6pm\, and Sun. 11am-4pm. For additional information\, please visit www.KohlerExpo.com. Kohler Expos\, Inc. produces: Fall Bridal Show of West Michigan   September 6-7\, 2019 - DeVos Place\, Grand Rapids\, Michigan Kids and Family Expo   January 25\, 2020   DeVos Place\, Grand Rapids\, Michigan Winter Bridal Show of West Michigan   January 25\, 2020   DeVos Place\, Grand Rapids\, Michigan Mid-Michigan Women's Expo   February 7-9\, 2020 - Lansing Center\, Lansing\, Michigan West Michigan Women's Expo   March 13-15\, 2020 - DeVos Place\, Grand Rapids\, Michigan
X-ALT-DESC;FMTTYPE=text/html:West Michigan Women&rsquo\;s Expo March 13-15\, 2020 Hours: Fri 10-6\, Sat 10-6\, Sun 11-4 DeVos Place - Grand Rapids\, MI www.KohlerExpo.com Your Health\, Your Home\, Your Style! Over 350 Exhibits\, Seminars\, Shopping and Fun that aim to provide a weekend of entertainment\, education and enjoyment tailored to Women and their Families. Women&rsquo\;s Expo exhibits may include: &bull\; Fashion Clothing &amp\; Accessories &bull\; Health &amp\; Wellness &bull\; Hair Styling\, Hair Tools &amp\; Products &bull\; Vacation &amp\; Travel Getaways &bull\; Jewelry &amp\; Jewelry Cleaner &bull\; Massage &amp\; Spa Services &bull\; Gift Ideas &bull\; Home D&eacute\;cor &amp\; Improvements &bull\; Cosmetics &amp\; Skincare &bull\; Weight Loss &amp\; Fitness &bull\; Handbags\, Purses &amp\; Totes &bull\; Wine &amp\; Wine Slushy Mixes &bull\; Bras &amp\; Shapewear &bull\; Cookware &amp\; Culinary &bull\; Body Contouring &amp\; Rejuvenation &bull\; Pillows &amp\; Sheets &bull\; Essential Oils &bull\; Teeth Whitening &amp\; Tanning &bull\; Dips &amp\; Seasonings\, Bread\, Fudge\, &amp\; many Food Samples &bull\; Door Prizes &bull\; And much more! Spend the day\, spend the weekend! Open to the Public. Tickets are available at the door or online at www.KohlerExpo.com. Hours: Fri. 10am-6pm\, Sat. 10am-6pm\, and Sun. 11am-4pm. For additional information\, please visit www.KohlerExpo.com. Kohler Expos\, Inc. produces: Fall Bridal Show of West Michigan &ndash\; September 6-7\, 2019 - DeVos Place\, Grand Rapids\, Michigan Kids and Family Expo &ndash\; January 25\, 2020 &ndash\; DeVos Place\, Grand Rapids\, Michigan Winter Bridal Show of West Michigan &ndash\; January 25\, 2020 &ndash\; DeVos Place\, Grand Rapids\, Michigan Mid-Michigan Women&rsquo\;s Expo &ndash\; February 7-9\, 2020 - Lansing Center\, Lansing\, Michigan West Michigan Women&rsquo\;s Expo &ndash\; March 13-15\, 2020 - DeVos Place\, Grand Rapids\, Michigan
LOCATION:DeVos Place downtown Grand Rapids
UID:e.2018.1283
SEQUENCE:3
DTSTAMP:20260419T134728Z
URL:https://members.westmihcc.org/events/details/west-michigan-women-s-expo-03-13-2020-1283
END:VEVENT

END:VCALENDAR
