BEGIN:VCALENDAR
VERSION:2.0
PRODID:-//ChamberMaster//Event Calendar 2.0//EN
METHOD:PUBLISH
X-PUBLISHED-TTL:P3D
REFRESH-INTERVAL:P3D
CALSCALE:GREGORIAN
BEGIN:VEVENT
DTSTART:20180309T150000Z
DTEND:20180311T200000Z
X-MICROSOFT-CDO-ALLDAYEVENT:FALSE
SUMMARY:West Michigan Women's Expo
DESCRIPTION:West Michigan Women's Expo March 9-11\, 2018 Hours: Fri 10-6\, Sat 10-6\, Sun 11-4 DeVos Place - Grand Rapids\, MI www.KohlerExpo.com Something to Feel Good About! Hundreds of Exhibits Tailored to Women and their Families. Bring your friends and family to explore all that the Women's Expo has to offer Health\, Beauty\, Fitness\, Fashion\, Finance\, and Fun! Women's Expo exhibits may include:   Fashion Clothing & Accessories   Health & Wellness   Hair Styling\, Hair Tools & Products   Vacation & Travel Getaways   Jewelry & Jewelry Cleaner   Massage & Spa Services   Sunglasses & Gift Ideas   Home D cor & Improvements   Cosmetics & Skincare   Weight Loss & Fitness   Handbags\, Purses & Totes   Wine & Wine Slushy Mixes   Bras & Shapewear   Cookware & Culinary   LulaRoe Mobile Boutique   Body Contouring & Rejuvenation   Mattresses\, Pillows & Sheets   Essential Oils   Teeth Whitening & Tanning   Fudge\, Dips & Seasonings\, Bread\, Meats & Sausage\, Cookie Dough & Food Samples   And much more! Spend the day\, spend the weekend! Open to the Public. Tickets are available at the door or online at www.KohlerExpo.com. Hours: Fri. 10am-6pm\, Sat. 10am-6pm\, and Sun. 11am-4pm. For additional information and $2 off coupon\, please visit www.KohlerExpo.com. Kohler Expos\, Inc. produces: Fall Bridal Show   September 22-23\, 2017   DeVos Place\, Grand Rapids\, MI Shopping & Lifestyle Expo   October 14-15\, 2017   DeVos Place\, Grand Rapids\, MI Winter Bridal Show   January 27\, 2018   DeVos Place\, Grand Rapids\, MI Kids & Family Expo   January 27\, 2018   DeVos Place\, Grand Rapids\, MI Mid-Michigan Women's Expo   Feb. 2-4\, 2018 - Lansing Center\, Lansing\, MI West Michigan Women's Expo   March 9-11\, 2018 - DeVos Place\, Grand Rapids\, MI
X-ALT-DESC;FMTTYPE=text/html:West Michigan Women&rsquo\;s Expo March 9-11\, 2018 Hours: Fri 10-6\, Sat 10-6\, Sun 11-4 DeVos Place - Grand Rapids\, MI www.KohlerExpo.com Something to Feel Good About! Hundreds of Exhibits Tailored to Women and their Families. Bring your friends and family to explore all that the Women&rsquo\;s Expo has to offer&hellip\;Health\, Beauty\, Fitness\, Fashion\, Finance\, and Fun! Women&rsquo\;s Expo exhibits may include: &bull\; Fashion Clothing &amp\; Accessories &bull\; Health &amp\; Wellness &bull\; Hair Styling\, Hair Tools &amp\; Products &bull\; Vacation &amp\; Travel Getaways &bull\; Jewelry &amp\; Jewelry Cleaner &bull\; Massage &amp\; Spa Services &bull\; Sunglasses &amp\; Gift Ideas &bull\; Home D&eacute\;cor &amp\; Improvements &bull\; Cosmetics &amp\; Skincare &bull\; Weight Loss &amp\; Fitness &bull\; Handbags\, Purses &amp\; Totes &bull\; Wine &amp\; Wine Slushy Mixes &bull\; Bras &amp\; Shapewear &bull\; Cookware &amp\; Culinary &bull\; LulaRoe Mobile Boutique &bull\; Body Contouring &amp\; Rejuvenation &bull\; Mattresses\, Pillows &amp\; Sheets &bull\; Essential Oils &bull\; Teeth Whitening &amp\; Tanning &bull\; Fudge\, Dips &amp\; Seasonings\, Bread\, Meats &amp\; Sausage\, Cookie Dough &amp\; Food Samples &bull\; And much more! Spend the day\, spend the weekend! Open to the Public. Tickets are available at the door or online at www.KohlerExpo.com. Hours: Fri. 10am-6pm\, Sat. 10am-6pm\, and Sun. 11am-4pm. For additional information and $2 off coupon\, please visit www.KohlerExpo.com. Kohler Expos\, Inc. produces: Fall Bridal Show &ndash\; September 22-23\, 2017 &ndash\; DeVos Place\, Grand Rapids\, MI Shopping &amp\; Lifestyle Expo &ndash\; October 14-15\, 2017 &ndash\; DeVos Place\, Grand Rapids\, MI Winter Bridal Show &ndash\; January 27\, 2018 &ndash\; DeVos Place\, Grand Rapids\, MI Kids &amp\; Family Expo &ndash\; January 27\, 2018 &ndash\; DeVos Place\, Grand Rapids\, MI Mid-Michigan Women&rsquo\;s Expo &ndash\; Feb. 2-4\, 2018 - Lansing Center\, Lansing\, MI West Michigan Women&rsquo\;s Expo &ndash\; March 9-11\, 2018 - DeVos Place\, Grand Rapids\, MI
LOCATION:Devos Place - Grand Rapids
UID:e.2018.680
SEQUENCE:3
DTSTAMP:20260422T213728Z
URL:https://members.westmihcc.org/events/details/west-michigan-women-s-expo-680
END:VEVENT

END:VCALENDAR
