BEGIN:VCALENDAR
VERSION:2.0
PRODID:-//ChamberMaster//Event Calendar 2.0//EN
METHOD:PUBLISH
X-PUBLISHED-TTL:P3D
REFRESH-INTERVAL:P3D
CALSCALE:GREGORIAN
BEGIN:VEVENT
DTSTART:20170310T150000Z
DTEND:20170312T210000Z
X-MICROSOFT-CDO-ALLDAYEVENT:FALSE
SUMMARY:West Michigan Women's Expo - March 10-12\, 2017
DESCRIPTION:West Michigan Women's Expo March 10-12\, 2017 DeVos Place - Grand Rapids\, MI www.kohlerexpo.com Something to Feel Good About! Over 400 Exhibits and Seminars Tailored to Women and their Families. Bring your friends and family to explore all that the Women's Expo has to offer Health\, Beauty\, Fitness\, Fashion\, Finance\, and Fun! The Women's Expo features exhibits and seminars:   Healthcare   Finance   Food   Cooking Stage   Vacation / Travel / Camps   Fashion Boutiques   Jewelry   Weight Loss & Fitness   Home D cor' and Improvements   Beauty & Cosmetics   On-site Spa Services   Handbags\, Candles & Gift Ideas   A Shopping Extravaganza! Spend the day\, spend the weekend! Open to the Public. Tickets are available at the door.
X-ALT-DESC;FMTTYPE=text/html:West Michigan Women&rsquo\;s Expo March 10-12\, 2017 DeVos Place - Grand Rapids\, MI www.kohlerexpo.com Something to Feel Good About! Over 400 Exhibits and Seminars Tailored to Women and their Families. Bring your friends and family to explore all that the Women&rsquo\;s Expo has to offer&hellip\;Health\, Beauty\, Fitness\, Fashion\, Finance\, and Fun! The Women&rsquo\;s Expo features exhibits and seminars: &bull\; Healthcare &bull\; Finance &bull\; Food &ndash\; Cooking Stage &bull\; Vacation / Travel / Camps &bull\; Fashion Boutiques &bull\; Jewelry &bull\; Weight Loss &amp\; Fitness &bull\; Home D&eacute\;cor&rsquo\; and Improvements &bull\; Beauty &amp\; Cosmetics &bull\; On-site Spa Services &bull\; Handbags\, Candles &amp\; Gift Ideas &bull\; A Shopping Extravaganza! Spend the day\, spend the weekend! Open to the Public. Tickets are available at the door.
LOCATION:DeVos Place 303 Monroe Ave NW Grand Rapids MI 49503
UID:e.2018.416
SEQUENCE:3
DTSTAMP:20260425T161012Z
URL:https://members.westmihcc.org/events/details/west-michigan-women-s-expo-march-10-12-2017-03-10-2017-416
END:VEVENT

END:VCALENDAR
