BEGIN:VCALENDAR
VERSION:2.0
PRODID:-//ChamberMaster//Event Calendar 2.0//EN
METHOD:PUBLISH
X-PUBLISHED-TTL:P3D
REFRESH-INTERVAL:P3D
CALSCALE:GREGORIAN
BEGIN:VEVENT
DTSTART:20160914T230000Z
DTEND:20160915T020000Z
X-MICROSOFT-CDO-ALLDAYEVENT:FALSE
SUMMARY:WGRD Presents Avenged Sevenfold with special guests Volbeat and Avatar
DESCRIPTION:Avenged Sevenfold has achieved worldwide success with a string of best-selling albums   including two consecutive No 1's on Billboard's Top 200 albums and Diamond\, Platinum\, and Gold awards for album sales in nearly a dozen countries. The band is an American rock radio titan with a series of No. 1 singles and holds the distinction as the most played band at rock radio in 2014. Avenged Sevenfold\, which hails from Huntington Beach\, Calif.\, is known for its spectacular live shows\, routinely selling out arenas worldwide\, including the U.K.'s legendary Wembley Arena\, and headlining some of the biggest and most prestigious music festivals around the globe including Download (UK)\, Soundwave (Australia)\, Summer Sonic (Japan)\, Graspop (Belgium)\, and Rock On The Range (USA). As evidence of the singular role they play in the zeitgeist of rock & roll in the 21st century\, in November 2012 A7X made an unprecedented appearance as characters in Call of Duty Black Ops 2   the biggest-selling video game of all time\, which featured the band's performance of "Carry On\," written specifically for the game. Not ones to rest on their laurels\, Avenged Sevenfold self-released the action-adventure mobile video game Hail To The King: Deathbat to rave reviews\; with music\, concept\, and gameplay created entirely by the band. Avenged Sevenfold appeared in stores and homes globally as the featured pre-launch artist in 2015's Guitar Hero: Live including an industry first playable live performance. Special guests performing are Volbeat and Avatar. Tickets go on sale Friday\, June 24\, 2016 @ 12 PM. Tickets may be purchased at the Van Andel Arena  and DeVos Place  convention center box offices\, Ticketmaster ticket centers\, including D & W stores and select Family Fare and Walmart locations\, charge by phone: 1.800.745.3000 or on-line at Ticketmaster.com. Ticket prices are subject to change.
X-ALT-DESC;FMTTYPE=text/html:Avenged Sevenfold has achieved worldwide success with a string of best-selling albums &mdash\; including two consecutive No 1&rsquo\;s on Billboard&rsquo\;s Top 200 albums and Diamond\, Platinum\, and Gold awards for album sales in nearly a dozen countries. The band is an American rock radio titan with a series of No. 1 singles and holds the distinction as the most played band at rock radio in 2014. Avenged Sevenfold\, which hails from Huntington Beach\, Calif.\, is known for its spectacular live shows\, routinely selling out arenas worldwide\, including the U.K.&rsquo\;s legendary Wembley Arena\, and headlining some of the biggest and most prestigious music festivals around the globe including Download (UK)\, Soundwave (Australia)\, Summer Sonic (Japan)\, Graspop (Belgium)\, and Rock On The Range (USA). As evidence of the singular role they play in the zeitgeist of rock &amp\; roll in the 21st century\, in November 2012 A7X made an unprecedented appearance as characters in Call of Duty Black Ops 2 &mdash\; the biggest-selling video game of all time\, which featured the band&rsquo\;s performance of &ldquo\;Carry On\,&rdquo\; written specifically for the game. Not ones to rest on their laurels\, Avenged Sevenfold self-released the action-adventure mobile video game Hail To The King: Deathbat to rave reviews\; with music\, concept\, and gameplay created entirely by the band. Avenged Sevenfold appeared in stores and homes globally as the featured pre-launch artist in 2015&rsquo\;s Guitar Hero: Live including an industry first playable live performance. Special guests performing are Volbeat and Avatar. Tickets go on sale Friday\, June 24\, 2016 @ 12 PM. Tickets may be purchased at the Van Andel Arena&reg\; and DeVos Place&reg\; convention center box offices\, Ticketmaster ticket centers\, including D &amp\; W stores and select Family Fare and Walmart locations\, charge by phone: 1.800.745.3000 or on-line at Ticketmaster.com. Ticket prices are subject to change.
LOCATION:Van Andel Arena 130 West Fulton Grand Rapids\, MI 49503
UID:e.2018.412
SEQUENCE:3
DTSTAMP:20260425T230151Z
URL:https://members.westmihcc.org/events/details/wgrd-presents-avenged-sevenfold-with-special-guests-volbeat-and-avatar-09-14-2016-412
END:VEVENT

END:VCALENDAR
