BEGIN:VCALENDAR
VERSION:2.0
PRODID:-//ChamberMaster//Event Calendar 2.0//EN
METHOD:PUBLISH
X-PUBLISHED-TTL:P3D
REFRESH-INTERVAL:P3D
CALSCALE:GREGORIAN
BEGIN:VEVENT
DTSTART:20170412T150000Z
DTEND:20170412T160000Z
X-MICROSOFT-CDO-ALLDAYEVENT:FALSE
SUMMARY:Where’s the Money? Small Business Financing Sources (Webinar)
DESCRIPTION:Did you know there are more than 44 different types of small business financing? You don't have to know how each one works\, but you do need to know how to get the right type of financing for your business and avoid costly pitfalls. No cost! To register\, go online at https://clients.sbdcmichigan.org/workshop.aspx?ekey=1370008 or call SBDC West Michigan at (616)331-7370.
X-ALT-DESC;FMTTYPE=text/html:Did you know there are more than 44 different types of small business financing? You don&rsquo\;t have to know how each one works\, but you do need to know how to get the right type of financing for your business and avoid costly pitfalls. No cost! To register\, go online at https://clients.sbdcmichigan.org/workshop.aspx?ekey=1370008 or call SBDC West Michigan at (616)331-7370.
LOCATION:Online (Webinar)
UID:e.2018.547
SEQUENCE:3
DTSTAMP:20260425T144351Z
URL:https://members.westmihcc.org/events/details/where-s-the-money-small-business-financing-sources-webinar-547
END:VEVENT

END:VCALENDAR
