BEGIN:VCALENDAR
VERSION:2.0
PRODID:-//ChamberMaster//Event Calendar 2.0//EN
METHOD:PUBLISH
X-PUBLISHED-TTL:P3D
REFRESH-INTERVAL:P3D
CALSCALE:GREGORIAN
BEGIN:VEVENT
DTSTART:20190506T223000Z
DTEND:20190507T003000Z
X-MICROSOFT-CDO-ALLDAYEVENT:FALSE
SUMMARY:Wild Kratts Live 2.0
DESCRIPTION:Wild Kratts - LIVE! 2.0 Creature Power comes to DeVos Performance Hall on Monday\, May 6\, 2019 at 6:30PM. Wild Kratts - Live is a theatrical stage show based on the #1 animated television series Wild Kratts. Martin and Chris Kratt\, stars of the Emmy-nominated Wild Kratts step out LIVE ON STAGE to engage the audience in a classic Wild Kratts story. Experience\, live-on-stage\, the astounding "creature" fundamentals\, and the infectious excitement and inspiring quest of the Kratt Brothers that make the hit television series Wild Kratts so popular with kids and their families.
X-ALT-DESC;FMTTYPE=text/html:Wild Kratts - LIVE! 2.0 Creature Power comes to DeVos Performance Hall on Monday\, May 6\, 2019 at 6:30PM. Wild Kratts - Live is a theatrical stage show based on the #1 animated television series Wild Kratts. Martin and Chris Kratt\, stars of the Emmy-nominated Wild Kratts step out LIVE ON STAGE to engage the audience in a classic Wild Kratts story. Experience\, live-on-stage\, the astounding &quot\;creature&quot\; fundamentals\, and the infectious excitement and inspiring quest of the Kratt Brothers that make the hit television series Wild Kratts so popular with kids and their families.
LOCATION:DeVos Performance Hall
UID:e.2018.1011
SEQUENCE:3
DTSTAMP:20260420T050011Z
URL:https://members.westmihcc.org/events/details/wild-kratts-live-2-0-1011
END:VEVENT

END:VCALENDAR
