BEGIN:VCALENDAR
VERSION:2.0
PRODID:-//ChamberMaster//Event Calendar 2.0//EN
METHOD:PUBLISH
X-PUBLISHED-TTL:P3D
REFRESH-INTERVAL:P3D
CALSCALE:GREGORIAN
BEGIN:VEVENT
DTSTART:20170322T153000Z
DTEND:20170322T180000Z
X-MICROSOFT-CDO-ALLDAYEVENT:FALSE
SUMMARY:Williamson Employment's 25th Anniversary Open House
DESCRIPTION:YOU ARE INVITED TO OUR 25TH ANNIVERSARY OPEN HOUSE!\n\n \n\n~ Food\, Beverages\, and Door Prizes ~\n\nOffice tour\, meet the staff\, and celebrate with us!
X-ALT-DESC;FMTTYPE=text/html:<div style="text-align:center"><span style="font-family:verdana">&nbsp\;<br />\n<strong><span style="font-size:12pt">YOU ARE INVITED TO OUR 25<sup>TH</sup> ANNIVERSARY OPEN HOUSE!</span></strong><br />\n&nbsp\;<br />\n<span style="font-size:12pt">~ Food\, Beverages\, and Door Prizes ~</span><br />\n<span style="font-size:12pt">Office tour\, meet the staff\, and celebrate with us!</span></span><br />\n&nbsp\;</div>\n
LOCATION:3940 Broadmoor SE\, Suite 101\, Kentwood\, MI 49512
UID:e.2018.531
SEQUENCE:3
DTSTAMP:20260425T160613Z
URL:https://members.westmihcc.org/events/details/williamson-employment-s-25th-anniversary-open-house-531
END:VEVENT

END:VCALENDAR
