BEGIN:VCALENDAR
VERSION:2.0
PRODID:-//ChamberMaster//Event Calendar 2.0//EN
METHOD:PUBLISH
X-PUBLISHED-TTL:P3D
REFRESH-INTERVAL:P3D
CALSCALE:GREGORIAN
BEGIN:VEVENT
DTSTART:20180127T160000Z
DTEND:20180127T210000Z
X-MICROSOFT-CDO-ALLDAYEVENT:FALSE
SUMMARY:Winter Bridal Show
DESCRIPTION:Winter Bridal Show of West Michigan January 27\, 2018 (Saturday) Hours: Saturday\, 11am-4pm DeVos Place\, downtown Grand Rapids\, MI www.KohlerExpo.com Brides\, Grooms\, Moms and Friends come celebrate this special day!   Bridal Fashion Show   1pm   Bridal Gowns & Wedding Dresses   Men's Tuxedos & Suits   Flowers & Decorations   Tent Display & Party Rentals   Bridal Gift Registry   Photography & Videography   Hotel & Lodging   Health & Beauty   Honeymoon & Travel   Bachelor & Bachelorette Party Ideas   Catering & Bar Services   Cakes & Desserts   Reception Facilities   Ceremony Venues   DJ's & Music   Real Estate Services   Cookware & Culinary   Photo Booth   Wedding Rings & Jewelry   Limousine & Party Buses   Register to WIN for PRIZES Show discounts from local wedding professionals offered to Brides and Grooms\, including the chance to win exciting door prizes for your wedding\, must be present to win. Meet leading bridal exhibitors face-to-face to help make your wedding special. View current and trendy Bridal Gowns at our runway Fashion Show: Saturday at 1 pm. Bridal Show is open to the General Public. Admission at the Door or online at www.KohlerExpo.com. For additional information and $2 off coupon\, please visit www.kohlerexpo.com. Kohler Expos\, Inc. produces: Fall Bridal Show   September 22-23\, 2017   DeVos Place\, Grand Rapids\, MI Shopping & Lifestyle Expo   October 14-15\, 2017   DeVos Place\, Grand Rapids\, MI Winter Bridal Show   January 27\, 2018   DeVos Place\, Grand Rapids\, MI Kids & Family Expo   January 27\, 2018   DeVos Place\, Grand Rapids\, MI Mid-Michigan Women's Expo   Feb. 2-4\, 2018 - Lansing Center\, Lansing\, MI West Michigan Women's Expo   March 9-11\, 2018 - DeVos Place\, Grand Rapids\, MI
X-ALT-DESC;FMTTYPE=text/html:Winter Bridal Show of West Michigan January 27\, 2018 (Saturday) Hours: Saturday\, 11am-4pm DeVos Place\, downtown Grand Rapids\, MI www.KohlerExpo.com Brides\, Grooms\, Moms and Friends&hellip\;come celebrate this special day! &bull\; Bridal Fashion Show &ndash\; 1pm &bull\; Bridal Gowns &amp\; Wedding Dresses &bull\; Men&rsquo\;s Tuxedos &amp\; Suits &bull\; Flowers &amp\; Decorations &bull\; Tent Display &amp\; Party Rentals &bull\; Bridal Gift Registry &bull\; Photography &amp\; Videography &bull\; Hotel &amp\; Lodging &bull\; Health &amp\; Beauty &bull\; Honeymoon &amp\; Travel &bull\; Bachelor &amp\; Bachelorette Party Ideas &bull\; Catering &amp\; Bar Services &bull\; Cakes &amp\; Desserts &bull\; Reception Facilities &bull\; Ceremony Venues &bull\; DJ&rsquo\;s &amp\; Music &bull\; Real Estate Services &bull\; Cookware &amp\; Culinary &bull\; Photo Booth &bull\; Wedding Rings &amp\; Jewelry &bull\; Limousine &amp\; Party Buses &bull\; Register to WIN for PRIZES Show discounts from local wedding professionals offered to Brides and Grooms\, including the chance to win exciting door prizes for your wedding\, must be present to win. Meet leading bridal exhibitors face-to-face to help make your wedding special. View current and trendy Bridal Gowns at our runway Fashion Show: Saturday at 1 pm. Bridal Show is open to the General Public. Admission at the Door or online at www.KohlerExpo.com. For additional information and $2 off coupon\, please visit www.kohlerexpo.com. Kohler Expos\, Inc. produces: Fall Bridal Show &ndash\; September 22-23\, 2017 &ndash\; DeVos Place\, Grand Rapids\, MI Shopping &amp\; Lifestyle Expo &ndash\; October 14-15\, 2017 &ndash\; DeVos Place\, Grand Rapids\, MI Winter Bridal Show &ndash\; January 27\, 2018 &ndash\; DeVos Place\, Grand Rapids\, MI Kids &amp\; Family Expo &ndash\; January 27\, 2018 &ndash\; DeVos Place\, Grand Rapids\, MI Mid-Michigan Women&rsquo\;s Expo &ndash\; Feb. 2-4\, 2018 - Lansing Center\, Lansing\, MI West Michigan Women&rsquo\;s Expo &ndash\; March 9-11\, 2018 - DeVos Place\, Grand Rapids\, MI
LOCATION:DeVos Place - Grand Rapids
UID:e.2018.681
SEQUENCE:3
DTSTAMP:20260423T014935Z
URL:https://members.westmihcc.org/events/details/winter-bridal-show-681
END:VEVENT

END:VCALENDAR
