BEGIN:VCALENDAR
VERSION:2.0
PRODID:-//ChamberMaster//Event Calendar 2.0//EN
METHOD:PUBLISH
X-PUBLISHED-TTL:P3D
REFRESH-INTERVAL:P3D
CALSCALE:GREGORIAN
BEGIN:VEVENT
DTSTART:20170121T160000Z
DTEND:20170121T210000Z
X-MICROSOFT-CDO-ALLDAYEVENT:FALSE
SUMMARY:Winter Bridal Show of West Michigan
DESCRIPTION:Brides\, Grooms\, Moms and Friends come celebrate this special day!   Bridal Fashion Shows   Bridal Gowns-Wedding Dresses   Tuxedos-Formalwear   Flowers-Decorations   Bridal Gift Registry   Photography   Hotel - Lodging   Beauty   Catering   Bar Services   Wedding Venues & Reception Facilities   Music - DJ's   Cookware   Culinary   Photo Booth   Wedding Favors   Limousine   Party Bus Show discounts from local wedding professionals offered to Brides and Grooms\, including the chance to win exciting door prizes for your wedding. Meet leading bridal exhibitors face-to-face to help make your wedding special. View current and trendy Bridal Gowns at our runway Fashion Show: Saturday at 1 pm. Bridal Show is open to the General Public. Admission at the Door.
X-ALT-DESC;FMTTYPE=text/html:Brides\, Grooms\, Moms and Friends&hellip\;come celebrate this special day! &bull\; Bridal Fashion Shows &bull\; Bridal Gowns-Wedding Dresses &bull\; Tuxedos-Formalwear &bull\; Flowers-Decorations &bull\; Bridal Gift Registry &bull\; Photography &bull\; Hotel - Lodging &bull\; Beauty &bull\; Catering &bull\; Bar Services &bull\; Wedding Venues &amp\; Reception Facilities &bull\; Music - DJ&rsquo\;s &bull\; Cookware &ndash\; Culinary &bull\; Photo Booth &bull\; Wedding Favors &bull\; Limousine &ndash\; Party Bus Show discounts from local wedding professionals offered to Brides and Grooms\, including the chance to win exciting door prizes for your wedding. Meet leading bridal exhibitors face-to-face to help make your wedding special. View current and trendy Bridal Gowns at our runway Fashion Show: Saturday at 1 pm. Bridal Show is open to the General Public. Admission at the Door.
LOCATION:DeVos Place\, 303 Monroe Ave NW\, Grand Rapids\, MI 49503
UID:e.2018.510
SEQUENCE:3
DTSTAMP:20260425T171954Z
URL:https://members.westmihcc.org/events/details/winter-bridal-show-of-west-michigan-510
END:VEVENT

END:VCALENDAR
