BEGIN:VCALENDAR
VERSION:2.0
PRODID:-//ChamberMaster//Event Calendar 2.0//EN
METHOD:PUBLISH
X-PUBLISHED-TTL:P3D
REFRESH-INTERVAL:P3D
CALSCALE:GREGORIAN
BEGIN:VEVENT
DTSTART:20180107T230000Z
DTEND:20180108T020000Z
X-MICROSOFT-CDO-ALLDAYEVENT:FALSE
SUMMARY:Winter Jam 2018
DESCRIPTION:GRAMMY -nominated\, Platinum- selling and Billboard Music Award-winning rockers Skillet will headline the Winter Jam 2018 Tour Spectacular. Among the biggest annual tours in the world\, Winter Jam is once again set to showcase a lineup of some of the best and brightest names in Christian music. Presented by Holt International\, Winter Jam's 46-city Eastern U.S. tour will also feature GRAMMY -nominated recording artist and internationally-renowned worship leader Kari Jobe (featuring Cody Carnes)\; GRAMMY -nominated pop hitmakers Building 429\; popular comedian and viral sensation John Crist\; critically-acclaimed breakout hip-hop recording artist KB\; GRAMMY -nominated tour creators and hosts\, NewSong\; Dove Award-winning chart-topper Jordan Feliz\; and a message from author\, speaker and evangelist Nick Hall. In addition\, the Pre-Jam Party will feature award- winning worship artist Dan Bremnes and lauded Curb Records singer/songwriter Mallary Hope\, along with new Baby Syndrome Records artist Westover. *Line up subject to change* Doors will open for the Pre-Jam Party at 5:00 PM For further information\, visit jamtour.com or turningpointpr.com. Follow Winter Jam on Facebook\, Twitter and Instagram.
X-ALT-DESC;FMTTYPE=text/html:GRAMMY&reg\;-nominated\, Platinum- selling and Billboard Music Award-winning rockers Skillet will headline the Winter Jam 2018 Tour Spectacular. Among the biggest annual tours in the world\, Winter Jam is once again set to showcase a lineup of some of the best and brightest names in Christian music. Presented by Holt International\, Winter Jam&rsquo\;s 46-city Eastern U.S. tour will also feature GRAMMY&reg\;-nominated recording artist and internationally-renowned worship leader Kari Jobe (featuring Cody Carnes)\; GRAMMY&reg\;-nominated pop hitmakers Building 429\; popular comedian and viral sensation John Crist\; critically-acclaimed breakout hip-hop recording artist KB\; GRAMMY&reg\;-nominated tour creators and hosts\, NewSong\; Dove Award-winning chart-topper Jordan Feliz\; and a message from author\, speaker and evangelist Nick Hall. In addition\, the Pre-Jam Party will feature award- winning worship artist Dan Bremnes and lauded Curb Records singer/songwriter Mallary Hope\, along with new Baby Syndrome Records artist Westover. *Line up subject to change* Doors will open for the Pre-Jam Party at 5:00 PM For further information\, visit jamtour.com or turningpointpr.com. Follow Winter Jam on Facebook\, Twitter and Instagram.
LOCATION:Van Andel Arena
UID:e.2018.701
SEQUENCE:3
DTSTAMP:20260423T003501Z
URL:https://members.westmihcc.org/events/details/winter-jam-2018-701
END:VEVENT

END:VCALENDAR
