BEGIN:VCALENDAR
VERSION:2.0
PRODID:-//ChamberMaster//Event Calendar 2.0//EN
METHOD:PUBLISH
X-PUBLISHED-TTL:P3D
REFRESH-INTERVAL:P3D
CALSCALE:GREGORIAN
BEGIN:VEVENT
DTSTART:20190619T223000Z
DTEND:20190620T013000Z
X-MICROSOFT-CDO-ALLDAYEVENT:FALSE
SUMMARY:WLAV's Summertime Blues
DESCRIPTION:Gates open 6PM | Opening Act 6:30PM-7PM RESTRICTED ITEMS Outside food and beverages Outside alcohol Coolers Weapons Personal Pets Soliciting *As a liquor licensed facility\, state law mandates NO alcohol may be brought into the event that is not purchased under the same liquor license. Vehicles and persons entering the event space are subject to search for weapons and outside food or beverages PERMITTED ITEMS Lawn Chairs Bag Chairs Blankets ***FREE ADMISSION***
X-ALT-DESC;FMTTYPE=text/html:Gates open 6PM | Opening Act 6:30PM-7PM RESTRICTED ITEMS Outside food and beverages Outside alcohol Coolers Weapons Personal Pets Soliciting *As a liquor licensed facility\, state law mandates NO alcohol may be brought into the event that is not purchased under the same liquor license. Vehicles and persons entering the event space are subject to search for weapons and outside food or beverages PERMITTED ITEMS Lawn Chairs Bag Chairs Blankets ***FREE ADMISSION***
LOCATION:The DeltaPlex Arena
UID:e.2018.1259
SEQUENCE:3
DTSTAMP:20260420T015703Z
URL:https://members.westmihcc.org/events/details/wlav-s-summertime-blues-1259
END:VEVENT

END:VCALENDAR
