BEGIN:VCALENDAR
VERSION:2.0
PRODID:-//ChamberMaster//Event Calendar 2.0//EN
METHOD:PUBLISH
X-PUBLISHED-TTL:P3D
REFRESH-INTERVAL:P3D
CALSCALE:GREGORIAN
BEGIN:VEVENT
DTSTART:20191206T203000Z
DTEND:20191206T223000Z
X-MICROSOFT-CDO-ALLDAYEVENT:FALSE
SUMMARY:WMHCC Ambassador Holiday Party
DESCRIPTION:The WMHCC Ambassador team invites you to join us at our Annual Ambassador Holiday Party. Network with the Ambassador team and learn about what it means to be a WMHCC Ambassador.
X-ALT-DESC;FMTTYPE=text/html:The WMHCC Ambassador team invites you to join us at our Annual Ambassador Holiday Party. Network with the Ambassador team and learn about what it means to be a WMHCC Ambassador.&nbsp\;
LOCATION:City Built Brewing 820 Monroe Ave NW #155\, Grand Rapids\, MI 49503
UID:e.2018.1405
SEQUENCE:3
DTSTAMP:20260419T170030Z
URL:https://members.westmihcc.org/events/details/wmhcc-ambassador-holiday-party-1405
END:VEVENT

END:VCALENDAR
