BEGIN:VCALENDAR
VERSION:2.0
PRODID:-//ChamberMaster//Event Calendar 2.0//EN
METHOD:PUBLISH
X-PUBLISHED-TTL:P3D
REFRESH-INTERVAL:P3D
CALSCALE:GREGORIAN
BEGIN:VEVENT
DTSTART:20160512T200000Z
DTEND:20160512T210000Z
X-MICROSOFT-CDO-ALLDAYEVENT:FALSE
SUMMARY:WMHCC Member Orientation - Conozca su Cámara de Comercio Hispana
DESCRIPTION:Join us to learn more about membership with the West Michigan Hispanic Chamber of Commerce at the Member Orientation session for new\, existing and prospective members.\n\n\n\nThis is a great opportunity to learn about:\n\nHow we can help promote your business\n\nHow to reach the Hispanic market\n\nCurrent membership benefits\n\nFree to attend! Space is limited\, register today!\n\nFeel free to bring a colleague with you to share the information.\n\n \n\nLa C mara de Comercio Hispana del Oeste de Michigan ofrece una sesi n informativa para negocios que ya pertenecen a la C mara\, al igual que para nuevos y futuros socios.\n\n\n\nEsta es una gran oportunidad para aprender sobre:\n\nC mo podemos ayudar a promover su negocio\n\nC mo llegar al mercado hispano\n\nBeneficios de la membrec a actuales\n\nEl espacio es limitado\,  reg strese hoy GRATIS!\n\nNo dude en traer a un colega con usted para compartir la informaci n.
X-ALT-DESC;FMTTYPE=text/html:<span style="color:#000000\;"><span style="font-size:12px\;"><span style="font-family:verdana\;">Join us to learn more about membership with the West Michigan Hispanic Chamber of Commerce at the Member Orientation session for new\, existing and prospective members</span>.</span><br />\n<br />\n<span style="font-family:verdana\;"><strong>This is a great opportunity to learn about:</strong><br />\nHow we can help promote your business<br />\nHow to reach the Hispanic market<br />\nCurrent membership benefits<br />\nFree to attend! Space is limited\, register today!<br />\nFeel free to bring a colleague with you to share the information.<br />\n&nbsp\;<br />\nLa C&aacute\;mara de Comercio Hispana del Oeste de Michigan ofrece una sesi&oacute\;n informativa para negocios que ya pertenecen a la C&aacute\;mara\, al igual que para nuevos y futuros socios.<br />\n<br />\n<strong>Esta es una gran oportunidad para aprender sobre:</strong><br />\nC&oacute\;mo podemos ayudar a promover su negocio<br />\nC&oacute\;mo llegar al mercado hispano<br />\nBeneficios de la membrec&iacute\;a actuales<br />\nEl espacio es limitado\, &iexcl\;reg&iacute\;strese hoy GRATIS!<br />\nNo dude en </span>traer a un colega con usted para compartir la informaci&oacute\;n.</span>
LOCATION:1167 Madison Ave. SE Grand Rapids\, MI 49507 Training Room on the Second floor Parking is free
UID:e.2018.334
SEQUENCE:3
DTSTAMP:20260426T035324Z
URL:https://members.westmihcc.org/events/details/wmhcc-member-orientation-conozca-su-c&#225;mara-de-comercio-hispana-05-12-2016-334
END:VEVENT

END:VCALENDAR
