BEGIN:VCALENDAR
VERSION:2.0
PRODID:-//ChamberMaster//Event Calendar 2.0//EN
METHOD:PUBLISH
X-PUBLISHED-TTL:P3D
REFRESH-INTERVAL:P3D
CALSCALE:GREGORIAN
BEGIN:VEVENT
DTSTART:20190828T160000Z
DTEND:20190828T173000Z
X-MICROSOFT-CDO-ALLDAYEVENT:FALSE
SUMMARY:WMSBF August Forum: Sustainability at Consumers Energy with Patti Poppe
DESCRIPTION:West Michigan Sustainable Business Forum will host a luncheon and program featuring Sustainability at Consumers Energy with President and Chief Executive Officer Patti Poppe on Wednesday\, August 28 at the Seidman College of Business at Grand Valley State University. Patti Poppe will expand on Consumers Energy's triple bottom line   leading with People\, Planet\, and Prosperity\, and discuss their new Clean Energy Plan which was approved by the MPSC earlier this summer. Customer engagement will be a key ingredient to Michigan's energy success and this is a presentation you will want to hear.
X-ALT-DESC;FMTTYPE=text/html:West Michigan Sustainable Business Forum will host a luncheon and program featuring Sustainability at Consumers Energy with President and Chief Executive Officer Patti Poppe on Wednesday\, August 28 at the Seidman College of Business at Grand Valley State University. Patti Poppe will expand on Consumers Energy&rsquo\;s triple bottom line &ndash\; leading with People\, Planet\, and Prosperity\, and discuss their new Clean Energy Plan which was approved by the MPSC earlier this summer. Customer engagement will be a key ingredient to Michigan&rsquo\;s energy success and this is a presentation you will want to hear.
LOCATION:The Siedman College of Business at Grand Valley State University 50 Front Ave. SW Grand Rapids\, MI 49504
UID:e.2018.1279
SEQUENCE:3
DTSTAMP:20260420T002753Z
URL:https://members.westmihcc.org/events/details/wmsbf-august-forum-sustainability-at-consumers-energy-with-patti-poppe-1279
END:VEVENT

END:VCALENDAR
