BEGIN:VCALENDAR
VERSION:2.0
PRODID:-//ChamberMaster//Event Calendar 2.0//EN
METHOD:PUBLISH
X-PUBLISHED-TTL:P3D
REFRESH-INTERVAL:P3D
CALSCALE:GREGORIAN
BEGIN:VEVENT
DTSTART:20191209T163000Z
DTEND:20191209T190000Z
X-MICROSOFT-CDO-ALLDAYEVENT:FALSE
SUMMARY:WMSBF December Forum: Can Energy Innovations Reduce Need for Emergency Utility Assistance in West Michigan
DESCRIPTION:West Michigan Sustainable Business Forum and the Energy Efficiency Subcommittee of the Kent County Essential Needs Taskforce will host a forum discussion that will introduce how energy innovation and sustainability might positively impact the need for emergency utility assistance in West Michigan through improvements in technology\, partnerships\, or public policy. The two-hour forum will define the issues and facilitate discussion toward potential innovations. A panel will highlight Key Barriers for Consistent Utility Access\, How Utility Assistance Works\, Potential Systems Level Solutions and Current Initiatives. Table discussions will follow on theme: "How can we reduce the need for emergency assistance through innovation or investment?"
X-ALT-DESC;FMTTYPE=text/html:West Michigan Sustainable Business Forum and the Energy Efficiency Subcommittee of the Kent County Essential Needs Taskforce will host a forum discussion that will introduce how energy innovation and sustainability might positively impact the need for emergency utility assistance in West Michigan through improvements in technology\, partnerships\, or public policy. The two-hour forum will define the issues and facilitate discussion toward potential innovations. A panel will highlight Key Barriers for Consistent Utility Access\, How Utility Assistance Works\, Potential Systems Level Solutions and Current Initiatives. Table discussions will follow on theme: &ldquo\;How can we reduce the need for emergency assistance through innovation or investment?&rdquo\;
LOCATION:The Lit 61 Sheldon Ave SE Grand Rapids\, MI 49503 United States
UID:e.2018.1403
SEQUENCE:3
DTSTAMP:20260419T171223Z
URL:https://members.westmihcc.org/events/details/wmsbf-december-forum-can-energy-innovations-reduce-need-for-emergency-utility-assistance-in-west-michigan-1403
END:VEVENT

END:VCALENDAR
