BEGIN:VCALENDAR
VERSION:2.0
PRODID:-//ChamberMaster//Event Calendar 2.0//EN
METHOD:PUBLISH
X-PUBLISHED-TTL:P3D
REFRESH-INTERVAL:P3D
CALSCALE:GREGORIAN
BEGIN:VEVENT
DTSTART:20200309T153000Z
DTEND:20200309T173000Z
X-MICROSOFT-CDO-ALLDAYEVENT:FALSE
SUMMARY:WMSBF March Forum: Closed Loop Packaging
DESCRIPTION:"West Michigan Sustainable Business Forum will host a luncheon program discussing closed loop manufacturing opportunities and sustainable packaging production on Monday\, March 9 at Aquinas College. The featured speaker is Paul England\, Midwest Region Senior Vice President and Head of National Sales for Pratt Industries. Pratt is America's fifth largest corrugated packaging company and the world's largest privately-held 100% recycled paper and packaging company\, with more than 9\,000 highly-skilled\, green-collar employees dedicated to the environment and sustainability. Known locally as both a frequent purchaser of recycled paper fiber and a supplier of sustainable packaging solutions\, Pratt has grown into one of the largest\, lowest-cost companies in North America over the past two decades\, forced to innovate in a competitive container board market. Its $250 million\, 100-percent recycled paper mill in nearby Valparaiso has been touted as the most environmentally-friendly and technologically advanced facility of its kind\, "harvesting the urban forest" of the Midwest's newspapers\, office waste and boxes. The 550\,000-square-foot box plant produces 76 million lineal feet of paper every month\, enough to stretch entirely around the border of the United States\, famously serving major brands such as Home Depot and Amazon."
X-ALT-DESC;FMTTYPE=text/html:&quot\;West Michigan Sustainable Business Forum will host a luncheon program discussing closed loop manufacturing opportunities and sustainable packaging production on Monday\, March 9 at Aquinas College. The featured speaker is Paul England\, Midwest Region Senior Vice President and Head of National Sales for Pratt Industries. Pratt is America&#39\;s fifth largest corrugated packaging company and the world&#39\;s largest privately-held 100% recycled paper and packaging company\, with more than 9\,000 highly-skilled\, green-collar employees dedicated to the environment and sustainability. Known locally as both a frequent purchaser of recycled paper fiber and a supplier of sustainable packaging solutions\, Pratt has grown into one of the largest\, lowest-cost companies in North America over the past two decades\, forced to innovate in a competitive container board market. Its $250 million\, 100-percent recycled paper mill in nearby Valparaiso has been touted as the most environmentally-friendly and technologically advanced facility of its kind\, &ldquo\;harvesting the urban forest&rdquo\; of the Midwest&#39\;s newspapers\, office waste and boxes. The 550\,000-square-foot box plant produces 76 million lineal feet of paper every month\, enough to stretch entirely around the border of the United States\, famously serving major brands such as Home Depot and Amazon.&quot\;
LOCATION:Aquinas College 1703 Robinson Rd SE East Grand Rapids\, MI 49506
UID:e.2018.1487
SEQUENCE:3
DTSTAMP:20260419T123107Z
URL:https://members.westmihcc.org/events/details/wmsbf-march-forum-closed-loop-packaging-1487
END:VEVENT

END:VCALENDAR
