BEGIN:VCALENDAR
VERSION:2.0
PRODID:-//ChamberMaster//Event Calendar 2.0//EN
METHOD:PUBLISH
X-PUBLISHED-TTL:P3D
REFRESH-INTERVAL:P3D
CALSCALE:GREGORIAN
BEGIN:VEVENT
DTSTART:20190117T190000Z
DTEND:20190117T230000Z
X-MICROSOFT-CDO-ALLDAYEVENT:FALSE
SUMMARY:Women in Healthcare Leadership
DESCRIPTION:Women connected to healthcare through law\, finance\, insurance\, and or clinical experience who lead or aspire to lead are invited to the third annual Western Michigan HFMA (Healthcare Financial Management Association) Women in Healthcare Leadership Event. With the theme of "Be Innovative"\, our two keynote speakers will inspire us with their stories then lead us through truly unique opportunities to connect. As women in healthcare\, this is our opportunity to invest in ourselves so we may better serve others. Audience will leave inspired to: -confront challenges with bravery and confidence -consider their biggest obstacles as their greatest opportunities -not be afraid to think differently -be the one to create the change needed to succeed
X-ALT-DESC;FMTTYPE=text/html:Women connected to healthcare through law\, finance\, insurance\, and or clinical experience who lead or aspire to lead are invited to the third annual Western Michigan HFMA (Healthcare Financial Management Association) Women in Healthcare Leadership Event. With the theme of &quot\;Be Innovative&quot\;\, our two keynote speakers will inspire us with their stories then lead us through truly unique opportunities to connect. As women in healthcare\, this is our opportunity to invest in ourselves so we may better serve others. Audience will leave inspired to: -confront challenges with bravery and confidence -consider their biggest obstacles as their greatest opportunities -not be afraid to think differently -be the one to create the change needed to succeed
LOCATION:GVSU Eberhard Center 301 Fulton W Grand Rapids\, MI 49504
UID:e.2018.1039
SEQUENCE:3
DTSTAMP:20260422T082516Z
URL:https://members.westmihcc.org/events/details/women-in-healthcare-leadership-1039
END:VEVENT

END:VCALENDAR
