BEGIN:VCALENDAR
VERSION:2.0
PRODID:-//ChamberMaster//Event Calendar 2.0//EN
METHOD:PUBLISH
X-PUBLISHED-TTL:P3D
REFRESH-INTERVAL:P3D
CALSCALE:GREGORIAN
BEGIN:VEVENT
DTSTART:20200127T233000Z
DTEND:20200128T013000Z
X-MICROSOFT-CDO-ALLDAYEVENT:FALSE
SUMMARY:Writing a Business Plan
DESCRIPTION:Designed for individuals who want to increase their chances for successful self-employment\, or business launch\, this course covers business planning in detail. Specifics of marketing\, finance\, legal\, regulatory issues\, operations\, information-based planning and management are key components of this workshop. The first steps for creating a business plan draft are included. Live examples of effective business plans are used as course material. To register\, go to: https://www.eventbrite.com/e/writing-a-business-plan-xbus-195-01-registration-83160093077?aff=ebdssbdestsearch. Speaker(s): Marie Elliott\, SBDC West Michigan Region Reasonable accommodations for persons with disabilities will be made\, if requested at least two weeks in advance. Please contact SBDC West Michigan at 616-331-7370 or email sbdc@gvsu.edu to make arrangements. The Michigan SBDC program is partially funded by the U.S. Small Business Administration. All MI-SBDC programs or co-sponsored programs are extended to the public on a nondiscriminatory basis. Fee: No Cost
X-ALT-DESC;FMTTYPE=text/html:Designed for individuals who want to increase their chances for successful self-employment\, or business launch\, this course covers business planning in detail. Specifics of marketing\, finance\, legal\, regulatory issues\, operations\, information-based planning and management are key components of this workshop. The first steps for creating a business plan draft are included. Live examples of effective business plans are used as course material. To register\, go to: https://www.eventbrite.com/e/writing-a-business-plan-xbus-195-01-registration-83160093077?aff=ebdssbdestsearch. Speaker(s): Marie Elliott\, SBDC West Michigan Region Reasonable accommodations for persons with disabilities will be made\, if requested at least two weeks in advance. Please contact SBDC West Michigan at 616-331-7370 or email sbdc@gvsu.edu to make arrangements. The Michigan SBDC program is partially funded by the U.S. Small Business Administration. All MI-SBDC programs or co-sponsored programs are extended to the public on a nondiscriminatory basis. Fee: No Cost
LOCATION:Montcalm Community College Stanley and Blanche Ash Technology and Learning Center 1325 Yellow Jacket Drive Greenville\, MI 48838
UID:e.2018.1446
SEQUENCE:3
DTSTAMP:20260419T165331Z
URL:https://members.westmihcc.org/events/details/writing-a-business-plan-01-27-2020-1446
END:VEVENT

END:VCALENDAR
