BEGIN:VCALENDAR
VERSION:2.0
PRODID:-//ChamberMaster//Event Calendar 2.0//EN
METHOD:PUBLISH
X-PUBLISHED-TTL:P3D
REFRESH-INTERVAL:P3D
CALSCALE:GREGORIAN
BEGIN:VEVENT
DTSTART:20190130T230000Z
DTEND:20190131T010000Z
X-MICROSOFT-CDO-ALLDAYEVENT:FALSE
SUMMARY:Writing a Business Plan
DESCRIPTION:Designed for individuals who want to increase their chances for successful self-employment\, or business launch\, this course covers business planning in detail. Specifics of marketing\, finance\, legal\, regulatory issues\, operations\, information based planning and management are key components of this workshop. The first steps for creating a business plan draft will be included. Live examples of effective business plans are used as course material. No cost.
X-ALT-DESC;FMTTYPE=text/html:Designed for individuals who want to increase their chances for successful self-employment\, or business launch\, this course covers business planning in detail. Specifics of marketing\, finance\, legal\, regulatory issues\, operations\, information based planning and management are key components of this workshop. The first steps for creating a business plan draft will be included. Live examples of effective business plans are used as course material. No cost.
LOCATION:Montcalm Community College
UID:e.2018.1041
SEQUENCE:3
DTSTAMP:20260422T081821Z
URL:https://members.westmihcc.org/events/details/writing-a-business-plan-01-30-2019-1041
END:VEVENT

END:VCALENDAR
